BEGIN:VCALENDAR
VERSION:2.0
PRODID:-//Museo Gypsotheca Antonio Canova - ECPv6.6.4.2//NONSGML v1.0//EN
CALSCALE:GREGORIAN
METHOD:PUBLISH
X-ORIGINAL-URL:https://www.museocanova.it
X-WR-CALDESC:Events for Museo Gypsotheca Antonio Canova
REFRESH-INTERVAL;VALUE=DURATION:PT1H
X-Robots-Tag:noindex
X-PUBLISHED-TTL:PT1H
BEGIN:VTIMEZONE
TZID:Europe/Rome
BEGIN:DAYLIGHT
TZOFFSETFROM:+0100
TZOFFSETTO:+0200
TZNAME:CEST
DTSTART:20250330T010000
END:DAYLIGHT
BEGIN:STANDARD
TZOFFSETFROM:+0200
TZOFFSETTO:+0100
TZNAME:CET
DTSTART:20251026T010000
END:STANDARD
BEGIN:DAYLIGHT
TZOFFSETFROM:+0100
TZOFFSETTO:+0200
TZNAME:CEST
DTSTART:20260329T010000
END:DAYLIGHT
BEGIN:STANDARD
TZOFFSETFROM:+0200
TZOFFSETTO:+0100
TZNAME:CET
DTSTART:20261025T010000
END:STANDARD
END:VTIMEZONE
BEGIN:VEVENT
DTSTART;TZID=Europe/Rome:20250622T000000
DTEND;TZID=Europe/Rome:20260602T000000
DTSTAMP:20260421T080052
CREATED:20250512T123448Z
LAST-MODIFIED:20260407T124835Z
UID:10001618-1750550400-1780358400@www.museocanova.it
SUMMARY:CARLO SCARPA E LE ARTI ALLA BIENNALE. Opere e vetri dalla Collezione Gemin
DESCRIPTION:
URL:https://www.museocanova.it/calendario/carlo-scarpa-e-le-arti-alla-biennale/
CATEGORIES:Mostre
ATTACH;FMTTYPE=image/jpeg:https://www.museocanova.it/2022/wp-content/uploads/2025/05/thumb-mostra-Scarpa-Gemin-1.jpg
END:VEVENT
BEGIN:VEVENT
DTSTART;TZID=Europe/Rome:20251101T123000
DTEND;TZID=Europe/Rome:20251101T133000
DTSTAMP:20260421T080052
CREATED:20250723T081229Z
LAST-MODIFIED:20260317T150623Z
UID:10001815-1762000200-1762003800@www.museocanova.it
SUMMARY:Visite guidate in lingua inglese
DESCRIPTION:
URL:https://www.museocanova.it/calendario/visite-guidate-in-lingua-inglese-2/2025-11-01/
CATEGORIES:Visite guidate
ATTACH;FMTTYPE=image/jpeg:https://www.museocanova.it/2022/wp-content/uploads/2022/09/museo_canova_visite_guidate_spontanee_possagno_thumb.jpg
END:VEVENT
BEGIN:VEVENT
DTSTART;TZID=Europe/Rome:20251101T163000
DTEND;TZID=Europe/Rome:20251101T173000
DTSTAMP:20260421T080052
CREATED:20251009T114244Z
LAST-MODIFIED:20251009T114447Z
UID:10001820-1762014600-1762018200@www.museocanova.it
SUMMARY:Visita tematica: L’antico nel Settecento veneto\, dall’abate Farsetti a Canova
DESCRIPTION:
URL:https://www.museocanova.it/calendario/visita-farsetti/
CATEGORIES:Visite guidate
ATTACH;FMTTYPE=image/jpeg:https://www.museocanova.it/2022/wp-content/uploads/2022/11/Canova_lawrence-web.jpg
END:VEVENT
BEGIN:VEVENT
DTSTART;TZID=Europe/Rome:20251102T163000
DTEND;TZID=Europe/Rome:20251102T180000
DTSTAMP:20260421T080052
CREATED:20250630T090735Z
LAST-MODIFIED:20250930T115138Z
UID:10001806-1762101000-1762106400@www.museocanova.it
SUMMARY:Visita guidata al Museo e alla mostra Carlo Scarpa e le arti alla Biennale. Opere e vetri dalla Collezione Gemin
DESCRIPTION:
URL:https://www.museocanova.it/calendario/visita-museo-mostra-scarpa-5/2025-11-02/
CATEGORIES:Visite guidate
ATTACH;FMTTYPE=image/jpeg:https://www.museocanova.it/2022/wp-content/uploads/2025/05/thumb-mostra-Scarpa-Gemin-1.jpg
END:VEVENT
BEGIN:VEVENT
DTSTART;TZID=Europe/Rome:20251108T103000
DTEND;TZID=Europe/Rome:20251108T163000
DTSTAMP:20260421T080052
CREATED:20250122T102813Z
LAST-MODIFIED:20260317T145657Z
UID:10001798-1762597800-1762619400@www.museocanova.it
SUMMARY:Visite guidate spontanee / sabato
DESCRIPTION:
URL:https://www.museocanova.it/calendario/visite-guidate-spontanee-sabato-4/2025-11-08/
CATEGORIES:Visite guidate
ATTACH;FMTTYPE=image/jpeg:https://www.museocanova.it/2022/wp-content/uploads/2022/09/museo_canova_visite_guidate_spontanee_possagno-1.jpg
END:VEVENT
BEGIN:VEVENT
DTSTART;TZID=Europe/Rome:20251108T123000
DTEND;TZID=Europe/Rome:20251108T133000
DTSTAMP:20260421T080052
CREATED:20250723T081229Z
LAST-MODIFIED:20260317T150623Z
UID:10001816-1762605000-1762608600@www.museocanova.it
SUMMARY:Visite guidate in lingua inglese
DESCRIPTION:
URL:https://www.museocanova.it/calendario/visite-guidate-in-lingua-inglese-2/2025-11-08/
CATEGORIES:Visite guidate
ATTACH;FMTTYPE=image/jpeg:https://www.museocanova.it/2022/wp-content/uploads/2022/09/museo_canova_visite_guidate_spontanee_possagno_thumb.jpg
END:VEVENT
BEGIN:VEVENT
DTSTART;TZID=Europe/Rome:20251108T160000
DTEND;TZID=Europe/Rome:20251108T170000
DTSTAMP:20260421T080052
CREATED:20251028T175657Z
LAST-MODIFIED:20251030T095540Z
UID:10001821-1762617600-1762621200@www.museocanova.it
SUMMARY:Tra passione e visione - il racconto della collezione Gemin
DESCRIPTION:
URL:https://www.museocanova.it/calendario/conferenza-gemin/
CATEGORIES:Appuntamenti
ATTACH;FMTTYPE=image/jpeg:https://www.museocanova.it/2022/wp-content/uploads/2025/05/thumb-mostra-Scarpa-Gemin-1.jpg
END:VEVENT
BEGIN:VEVENT
DTSTART;TZID=Europe/Rome:20251108T163000
DTEND;TZID=Europe/Rome:20251108T173000
DTSTAMP:20260421T080052
CREATED:20250331T081447Z
LAST-MODIFIED:20260317T152059Z
UID:10001539-1762619400-1762623000@www.museocanova.it
SUMMARY:Visita guidata: uno scultore alla corte di Napoleone
DESCRIPTION:
URL:https://www.museocanova.it/calendario/corte-napoleone/2025-11-08/
CATEGORIES:Visite guidate
ATTACH;FMTTYPE=image/jpeg:https://www.museocanova.it/2022/wp-content/uploads/2025/03/thumb-napoleone-1.jpg
END:VEVENT
BEGIN:VEVENT
DTSTART;TZID=Europe/Rome:20251108T200000
DTEND;TZID=Europe/Rome:20251108T230000
DTSTAMP:20260421T080052
CREATED:20241028T130648Z
LAST-MODIFIED:20251105T084310Z
UID:10001307-1762632000-1762642800@www.museocanova.it
SUMMARY:Alla luce di Psiche. Visita notturna con cena
DESCRIPTION:
URL:https://www.museocanova.it/calendario/alla-luce-di-psiche-2-3/
CATEGORIES:Appuntamenti
ATTACH;FMTTYPE=image/jpeg:https://www.museocanova.it/2022/wp-content/uploads/2022/10/Allalucedipsiche_mobile_thumbnail.jpg
END:VEVENT
BEGIN:VEVENT
DTSTART;TZID=Europe/Rome:20251109T163000
DTEND;TZID=Europe/Rome:20251109T180000
DTSTAMP:20260421T080052
CREATED:20250630T090735Z
LAST-MODIFIED:20250930T115138Z
UID:10001807-1762705800-1762711200@www.museocanova.it
SUMMARY:Visita guidata al Museo e alla mostra Carlo Scarpa e le arti alla Biennale. Opere e vetri dalla Collezione Gemin
DESCRIPTION:
URL:https://www.museocanova.it/calendario/visita-museo-mostra-scarpa-5/2025-11-09/
CATEGORIES:Visite guidate
ATTACH;FMTTYPE=image/jpeg:https://www.museocanova.it/2022/wp-content/uploads/2025/05/thumb-mostra-Scarpa-Gemin-1.jpg
END:VEVENT
BEGIN:VEVENT
DTSTART;TZID=Europe/Rome:20251115T103000
DTEND;TZID=Europe/Rome:20251115T163000
DTSTAMP:20260421T080052
CREATED:20250122T102813Z
LAST-MODIFIED:20260317T145657Z
UID:10001799-1763202600-1763224200@www.museocanova.it
SUMMARY:Visite guidate spontanee / sabato
DESCRIPTION:
URL:https://www.museocanova.it/calendario/visite-guidate-spontanee-sabato-4/2025-11-15/
CATEGORIES:Visite guidate
ATTACH;FMTTYPE=image/jpeg:https://www.museocanova.it/2022/wp-content/uploads/2022/09/museo_canova_visite_guidate_spontanee_possagno-1.jpg
END:VEVENT
BEGIN:VEVENT
DTSTART;TZID=Europe/Rome:20251115T123000
DTEND;TZID=Europe/Rome:20251115T133000
DTSTAMP:20260421T080052
CREATED:20250723T081229Z
LAST-MODIFIED:20260317T150623Z
UID:10001817-1763209800-1763213400@www.museocanova.it
SUMMARY:Visite guidate in lingua inglese
DESCRIPTION:
URL:https://www.museocanova.it/calendario/visite-guidate-in-lingua-inglese-2/2025-11-15/
CATEGORIES:Visite guidate
ATTACH;FMTTYPE=image/jpeg:https://www.museocanova.it/2022/wp-content/uploads/2022/09/museo_canova_visite_guidate_spontanee_possagno_thumb.jpg
END:VEVENT
BEGIN:VEVENT
DTSTART;TZID=Europe/Rome:20251115T160000
DTEND;TZID=Europe/Rome:20251115T170000
DTSTAMP:20260421T080052
CREATED:20250801T131702Z
LAST-MODIFIED:20250801T131702Z
UID:10001733-1763222400-1763226000@www.museocanova.it
SUMMARY:Laboratori fotografici: sguardi in movimento
DESCRIPTION:
URL:https://www.museocanova.it/calendario/laboratori-fotografici-sguardi-in-movimento/2025-11-15/
CATEGORIES:Appuntamenti
ATTACH;FMTTYPE=image/jpeg:https://www.museocanova.it/2022/wp-content/uploads/2025/01/thumb-Amendola.jpg
END:VEVENT
BEGIN:VEVENT
DTSTART;TZID=Europe/Rome:20251115T163000
DTEND;TZID=Europe/Rome:20251115T173000
DTSTAMP:20260421T080052
CREATED:20250331T082707Z
LAST-MODIFIED:20260317T150955Z
UID:10001560-1763224200-1763227800@www.museocanova.it
SUMMARY:Visita guidata: Canova neoclassico
DESCRIPTION:
URL:https://www.museocanova.it/calendario/visita-guidata-canova-neoclassico/2025-11-15/
LOCATION:Museo Gypsotheca Antonio Canova
CATEGORIES:Visite guidate
ATTACH;FMTTYPE=image/jpeg:https://www.museocanova.it/2022/wp-content/uploads/2023/09/Ala-Lazzari_2.jpg
END:VEVENT
BEGIN:VEVENT
DTSTART;TZID=Europe/Rome:20251116T103000
DTEND;TZID=Europe/Rome:20251116T173000
DTSTAMP:20260421T080052
CREATED:20240223T134204Z
LAST-MODIFIED:20260331T081526Z
UID:10001791-1763289000-1763314200@www.museocanova.it
SUMMARY:Visite guidate spontanee / Domenica e festivi
DESCRIPTION:
URL:https://www.museocanova.it/calendario/visite-guidate-spontanee-domenica-e-festivi-4/2025-11-16/
CATEGORIES:Visite guidate
ATTACH;FMTTYPE=image/jpeg:https://www.museocanova.it/2022/wp-content/uploads/2022/09/museo_canova_possagno_visite_guidate_spontanee.jpg
END:VEVENT
BEGIN:VEVENT
DTSTART;TZID=Europe/Rome:20251116T163000
DTEND;TZID=Europe/Rome:20251116T180000
DTSTAMP:20260421T080052
CREATED:20250630T090735Z
LAST-MODIFIED:20250930T115138Z
UID:10001808-1763310600-1763316000@www.museocanova.it
SUMMARY:Visita guidata al Museo e alla mostra Carlo Scarpa e le arti alla Biennale. Opere e vetri dalla Collezione Gemin
DESCRIPTION:
URL:https://www.museocanova.it/calendario/visita-museo-mostra-scarpa-5/2025-11-16/
CATEGORIES:Visite guidate
ATTACH;FMTTYPE=image/jpeg:https://www.museocanova.it/2022/wp-content/uploads/2025/05/thumb-mostra-Scarpa-Gemin-1.jpg
END:VEVENT
BEGIN:VEVENT
DTSTART;TZID=Europe/Rome:20251122T103000
DTEND;TZID=Europe/Rome:20251122T163000
DTSTAMP:20260421T080052
CREATED:20250122T102813Z
LAST-MODIFIED:20260317T145657Z
UID:10001800-1763807400-1763829000@www.museocanova.it
SUMMARY:Visite guidate spontanee / sabato
DESCRIPTION:
URL:https://www.museocanova.it/calendario/visite-guidate-spontanee-sabato-4/2025-11-22/
CATEGORIES:Visite guidate
ATTACH;FMTTYPE=image/jpeg:https://www.museocanova.it/2022/wp-content/uploads/2022/09/museo_canova_visite_guidate_spontanee_possagno-1.jpg
END:VEVENT
BEGIN:VEVENT
DTSTART;TZID=Europe/Rome:20251122T123000
DTEND;TZID=Europe/Rome:20251122T133000
DTSTAMP:20260421T080052
CREATED:20250723T081229Z
LAST-MODIFIED:20260317T150623Z
UID:10001818-1763814600-1763818200@www.museocanova.it
SUMMARY:Visite guidate in lingua inglese
DESCRIPTION:
URL:https://www.museocanova.it/calendario/visite-guidate-in-lingua-inglese-2/2025-11-22/
CATEGORIES:Visite guidate
ATTACH;FMTTYPE=image/jpeg:https://www.museocanova.it/2022/wp-content/uploads/2022/09/museo_canova_visite_guidate_spontanee_possagno_thumb.jpg
END:VEVENT
BEGIN:VEVENT
DTSTART;TZID=Europe/Rome:20251122T163000
DTEND;TZID=Europe/Rome:20251122T173000
DTSTAMP:20260421T080052
CREATED:20250331T083706Z
LAST-MODIFIED:20260317T151828Z
UID:10001570-1763829000-1763832600@www.museocanova.it
SUMMARY:Visita guidata: Canova\, che mito!
DESCRIPTION:
URL:https://www.museocanova.it/calendario/visita-guidata-canova-che-mito/2025-11-22/
LOCATION:Museo Gypsotheca Antonio Canova
CATEGORIES:Visite guidate
ATTACH;FMTTYPE=image/jpeg:https://www.museocanova.it/2022/wp-content/uploads/2023/03/preview-8-marzo.jpg
END:VEVENT
BEGIN:VEVENT
DTSTART;TZID=Europe/Rome:20251123T103000
DTEND;TZID=Europe/Rome:20251123T173000
DTSTAMP:20260421T080052
CREATED:20240223T134204Z
LAST-MODIFIED:20260331T081526Z
UID:10001792-1763893800-1763919000@www.museocanova.it
SUMMARY:Visite guidate spontanee / Domenica e festivi
DESCRIPTION:
URL:https://www.museocanova.it/calendario/visite-guidate-spontanee-domenica-e-festivi-4/2025-11-23/
CATEGORIES:Visite guidate
ATTACH;FMTTYPE=image/jpeg:https://www.museocanova.it/2022/wp-content/uploads/2022/09/museo_canova_possagno_visite_guidate_spontanee.jpg
END:VEVENT
BEGIN:VEVENT
DTSTART;TZID=Europe/Rome:20251123T163000
DTEND;TZID=Europe/Rome:20251123T180000
DTSTAMP:20260421T080052
CREATED:20250630T090735Z
LAST-MODIFIED:20250930T115138Z
UID:10001809-1763915400-1763920800@www.museocanova.it
SUMMARY:Visita guidata al Museo e alla mostra Carlo Scarpa e le arti alla Biennale. Opere e vetri dalla Collezione Gemin
DESCRIPTION:
URL:https://www.museocanova.it/calendario/visita-museo-mostra-scarpa-5/2025-11-23/
CATEGORIES:Visite guidate
ATTACH;FMTTYPE=image/jpeg:https://www.museocanova.it/2022/wp-content/uploads/2025/05/thumb-mostra-Scarpa-Gemin-1.jpg
END:VEVENT
BEGIN:VEVENT
DTSTART;TZID=Europe/Rome:20251129T103000
DTEND;TZID=Europe/Rome:20251129T163000
DTSTAMP:20260421T080052
CREATED:20250122T102813Z
LAST-MODIFIED:20260317T145657Z
UID:10001801-1764412200-1764433800@www.museocanova.it
SUMMARY:Visite guidate spontanee / sabato
DESCRIPTION:
URL:https://www.museocanova.it/calendario/visite-guidate-spontanee-sabato-4/2025-11-29/
CATEGORIES:Visite guidate
ATTACH;FMTTYPE=image/jpeg:https://www.museocanova.it/2022/wp-content/uploads/2022/09/museo_canova_visite_guidate_spontanee_possagno-1.jpg
END:VEVENT
BEGIN:VEVENT
DTSTART;TZID=Europe/Rome:20251129T123000
DTEND;TZID=Europe/Rome:20251129T133000
DTSTAMP:20260421T080052
CREATED:20250723T081229Z
LAST-MODIFIED:20260317T150623Z
UID:10001819-1764419400-1764423000@www.museocanova.it
SUMMARY:Visite guidate in lingua inglese
DESCRIPTION:
URL:https://www.museocanova.it/calendario/visite-guidate-in-lingua-inglese-2/2025-11-29/
CATEGORIES:Visite guidate
ATTACH;FMTTYPE=image/jpeg:https://www.museocanova.it/2022/wp-content/uploads/2022/09/museo_canova_visite_guidate_spontanee_possagno_thumb.jpg
END:VEVENT
BEGIN:VEVENT
DTSTART;TZID=Europe/Rome:20251129T160000
DTEND;TZID=Europe/Rome:20251129T173000
DTSTAMP:20260421T080052
CREATED:20251124T112024Z
LAST-MODIFIED:20251124T112419Z
UID:10001314-1764432000-1764437400@www.museocanova.it
SUMMARY:Carlo Scarpa al Museo Canova
DESCRIPTION:
URL:https://www.museocanova.it/calendario/visite-scarpa-2/
LOCATION:Museo Gypsotheca Antonio Canova
CATEGORIES:Visite guidate
ATTACH;FMTTYPE=image/png:https://www.museocanova.it/2022/wp-content/uploads/2024/02/boxed_Scarpa.png
END:VEVENT
BEGIN:VEVENT
DTSTART;TZID=Europe/Rome:20251130T103000
DTEND;TZID=Europe/Rome:20251130T173000
DTSTAMP:20260421T080052
CREATED:20240223T134204Z
LAST-MODIFIED:20260331T081526Z
UID:10001793-1764498600-1764523800@www.museocanova.it
SUMMARY:Visite guidate spontanee / Domenica e festivi
DESCRIPTION:
URL:https://www.museocanova.it/calendario/visite-guidate-spontanee-domenica-e-festivi-4/2025-11-30/
CATEGORIES:Visite guidate
ATTACH;FMTTYPE=image/jpeg:https://www.museocanova.it/2022/wp-content/uploads/2022/09/museo_canova_possagno_visite_guidate_spontanee.jpg
END:VEVENT
BEGIN:VEVENT
DTSTART;TZID=Europe/Rome:20251130T163000
DTEND;TZID=Europe/Rome:20251130T180000
DTSTAMP:20260421T080052
CREATED:20250630T090735Z
LAST-MODIFIED:20250930T115138Z
UID:10001810-1764520200-1764525600@www.museocanova.it
SUMMARY:Visita guidata al Museo e alla mostra Carlo Scarpa e le arti alla Biennale. Opere e vetri dalla Collezione Gemin
DESCRIPTION:
URL:https://www.museocanova.it/calendario/visita-museo-mostra-scarpa-5/2025-11-30/
CATEGORIES:Visite guidate
ATTACH;FMTTYPE=image/jpeg:https://www.museocanova.it/2022/wp-content/uploads/2025/05/thumb-mostra-Scarpa-Gemin-1.jpg
END:VEVENT
END:VCALENDAR