BEGIN:VCALENDAR
VERSION:2.0
PRODID:-//Museo Gypsotheca Antonio Canova - ECPv6.6.4.2//NONSGML v1.0//EN
CALSCALE:GREGORIAN
METHOD:PUBLISH
X-ORIGINAL-URL:https://www.museocanova.it
X-WR-CALDESC:Events for Museo Gypsotheca Antonio Canova
REFRESH-INTERVAL;VALUE=DURATION:PT1H
X-Robots-Tag:noindex
X-PUBLISHED-TTL:PT1H
BEGIN:VTIMEZONE
TZID:Europe/Rome
BEGIN:DAYLIGHT
TZOFFSETFROM:+0100
TZOFFSETTO:+0200
TZNAME:CEST
DTSTART:20250330T010000
END:DAYLIGHT
BEGIN:STANDARD
TZOFFSETFROM:+0200
TZOFFSETTO:+0100
TZNAME:CET
DTSTART:20251026T010000
END:STANDARD
END:VTIMEZONE
BEGIN:VEVENT
DTSTART;TZID=Europe/Rome:20250323T000000
DTEND;TZID=Europe/Rome:20250621T000000
DTSTAMP:20260420T162223
CREATED:20250312T150036Z
LAST-MODIFIED:20250331T110040Z
UID:10001498-1742688000-1750464000@www.museocanova.it
SUMMARY:Canova e la nascita della scultura moderna
DESCRIPTION:
URL:https://www.museocanova.it/calendario/canova-nascita-scultura-moderna/
CATEGORIES:Mostre
ATTACH;FMTTYPE=image/jpeg:https://www.museocanova.it/2022/wp-content/uploads/2025/03/header-Teseo.jpg
END:VEVENT
BEGIN:VEVENT
DTSTART;TZID=Europe/Rome:20250405T190000
DTEND;TZID=Europe/Rome:20250405T213000
DTSTAMP:20260420T162223
CREATED:20241028T130526Z
LAST-MODIFIED:20250205T113858Z
UID:10001477-1743879600-1743888600@www.museocanova.it
SUMMARY:Alla luce di Psiche - visita notturna con aperitivo
DESCRIPTION:
URL:https://www.museocanova.it/calendario/alla-luce-di-psiche-2-2/2025-04-05/
CATEGORIES:Appuntamenti
ATTACH;FMTTYPE=image/jpeg:https://www.museocanova.it/2022/wp-content/uploads/2022/10/Allalucedipsiche_mobile_thumbnail.jpg
END:VEVENT
BEGIN:VEVENT
DTSTART;TZID=Europe/Rome:20250413T193000
DTEND;TZID=Europe/Rome:20250413T203000
DTSTAMP:20260420T162223
CREATED:20250219T121230Z
LAST-MODIFIED:20250408T134600Z
UID:10001485-1744572600-1744576200@www.museocanova.it
SUMMARY:Rassegna Mythos – Classici al Museo
DESCRIPTION:
URL:https://www.museocanova.it/calendario/rassegna-mythos-classici-al-museo-2/2025-04-13/
CATEGORIES:Appuntamenti
ATTACH;FMTTYPE=image/jpeg:https://www.museocanova.it/2022/wp-content/uploads/2022/09/Antonio_Canova_Capolavori_Marte_Venere_mobile.jpg
END:VEVENT
BEGIN:VEVENT
DTSTART;TZID=Europe/Rome:20250415T163000
DTEND;TZID=Europe/Rome:20250415T180000
DTSTAMP:20260420T162223
CREATED:20250401T090646Z
LAST-MODIFIED:20250401T092712Z
UID:10001573-1744734600-1744740000@www.museocanova.it
SUMMARY:Open Day Insegnanti 2025
DESCRIPTION:
URL:https://www.museocanova.it/calendario/open-day-2025/2025-04-15/
LOCATION:Museo Gypsotheca Antonio Canova
CATEGORIES:Appuntamenti
ATTACH;FMTTYPE=image/jpeg:https://www.museocanova.it/2022/wp-content/uploads/2022/09/visite_guidate_famiglie_museo_canova_thumb-e1664185662848.jpg
END:VEVENT
BEGIN:VEVENT
DTSTART;TZID=Europe/Rome:20250416T170000
DTEND;TZID=Europe/Rome:20250416T180000
DTSTAMP:20260420T162223
CREATED:20250401T090646Z
LAST-MODIFIED:20250401T092712Z
UID:10001574-1744822800-1744826400@www.museocanova.it
SUMMARY:Open Day Insegnanti 2025
DESCRIPTION:
URL:https://www.museocanova.it/calendario/open-day-2025/2025-04-16/
LOCATION:Museo Gypsotheca Antonio Canova
CATEGORIES:Appuntamenti
ATTACH;FMTTYPE=image/jpeg:https://www.museocanova.it/2022/wp-content/uploads/2022/09/visite_guidate_famiglie_museo_canova_thumb-e1664185662848.jpg
END:VEVENT
BEGIN:VEVENT
DTSTART;TZID=Europe/Rome:20250419T160000
DTEND;TZID=Europe/Rome:20250419T170000
DTSTAMP:20260420T162223
CREATED:20220914T143557Z
LAST-MODIFIED:20260316T144238Z
UID:10001488-1745078400-1745082000@www.museocanova.it
SUMMARY:Laboratori creativi
DESCRIPTION:
URL:https://www.museocanova.it/calendario/laboratori-creativi/2025-04-19/
CATEGORIES:Appuntamenti
ATTACH;FMTTYPE=image/jpeg:https://www.museocanova.it/2022/wp-content/uploads/2022/09/Museo_Gypsotheca_Canova_Laboratori_per_bambini_thumb.jpg
END:VEVENT
BEGIN:VEVENT
DTSTART;TZID=Europe/Rome:20250420T090000
DTEND;TZID=Europe/Rome:20250420T180000
DTSTAMP:20260420T162223
CREATED:20250312T144236Z
LAST-MODIFIED:20250312T144236Z
UID:10001529-1745139600-1745172000@www.museocanova.it
SUMMARY:Chiusura Museo
DESCRIPTION:
URL:https://www.museocanova.it/calendario/chiusura-museo/
CATEGORIES:Appuntamenti,Visite guidate
ATTACH;FMTTYPE=image/png:https://www.museocanova.it/2022/wp-content/uploads/2024/02/boxed_Scarpa.png
END:VEVENT
BEGIN:VEVENT
DTSTART;TZID=Europe/Rome:20250422T110000
DTEND;TZID=Europe/Rome:20250422T170000
DTSTAMP:20260420T162223
CREATED:20250312T142859Z
LAST-MODIFIED:20250429T090051Z
UID:10001518-1745319600-1745341200@www.museocanova.it
SUMMARY:Visite guidate di primavera al Museo
DESCRIPTION:
URL:https://www.museocanova.it/calendario/visite-guidate-di-primavera/2025-04-22/
CATEGORIES:Visite guidate
ATTACH;FMTTYPE=image/jpeg:https://www.museocanova.it/2022/wp-content/uploads/2024/09/Gypsotheca_Possagno_Autoritratto_Canova_Gesso_.jpg
END:VEVENT
BEGIN:VEVENT
DTSTART;TZID=Europe/Rome:20250423T110000
DTEND;TZID=Europe/Rome:20250423T170000
DTSTAMP:20260420T162223
CREATED:20250312T142859Z
LAST-MODIFIED:20250429T090051Z
UID:10001519-1745406000-1745427600@www.museocanova.it
SUMMARY:Visite guidate di primavera al Museo
DESCRIPTION:
URL:https://www.museocanova.it/calendario/visite-guidate-di-primavera/2025-04-23/
CATEGORIES:Visite guidate
ATTACH;FMTTYPE=image/jpeg:https://www.museocanova.it/2022/wp-content/uploads/2024/09/Gypsotheca_Possagno_Autoritratto_Canova_Gesso_.jpg
END:VEVENT
BEGIN:VEVENT
DTSTART;TZID=Europe/Rome:20250424T110000
DTEND;TZID=Europe/Rome:20250424T170000
DTSTAMP:20260420T162223
CREATED:20250312T142859Z
LAST-MODIFIED:20250429T090051Z
UID:10001520-1745492400-1745514000@www.museocanova.it
SUMMARY:Visite guidate di primavera al Museo
DESCRIPTION:
URL:https://www.museocanova.it/calendario/visite-guidate-di-primavera/2025-04-24/
CATEGORIES:Visite guidate
ATTACH;FMTTYPE=image/jpeg:https://www.museocanova.it/2022/wp-content/uploads/2024/09/Gypsotheca_Possagno_Autoritratto_Canova_Gesso_.jpg
END:VEVENT
BEGIN:VEVENT
DTSTART;TZID=Europe/Rome:20250429T110000
DTEND;TZID=Europe/Rome:20250429T170000
DTSTAMP:20260420T162223
CREATED:20250312T142859Z
LAST-MODIFIED:20250429T090051Z
UID:10001523-1745924400-1745946000@www.museocanova.it
SUMMARY:Visite guidate di primavera al Museo
DESCRIPTION:
URL:https://www.museocanova.it/calendario/visite-guidate-di-primavera/2025-04-29/
CATEGORIES:Visite guidate
ATTACH;FMTTYPE=image/jpeg:https://www.museocanova.it/2022/wp-content/uploads/2024/09/Gypsotheca_Possagno_Autoritratto_Canova_Gesso_.jpg
END:VEVENT
BEGIN:VEVENT
DTSTART;TZID=Europe/Rome:20250430T110000
DTEND;TZID=Europe/Rome:20250430T170000
DTSTAMP:20260420T162223
CREATED:20250312T142859Z
LAST-MODIFIED:20250429T090051Z
UID:10001524-1746010800-1746032400@www.museocanova.it
SUMMARY:Visite guidate di primavera al Museo
DESCRIPTION:
URL:https://www.museocanova.it/calendario/visite-guidate-di-primavera/2025-04-30/
CATEGORIES:Visite guidate
ATTACH;FMTTYPE=image/jpeg:https://www.museocanova.it/2022/wp-content/uploads/2024/09/Gypsotheca_Possagno_Autoritratto_Canova_Gesso_.jpg
END:VEVENT
END:VCALENDAR