BEGIN:VCALENDAR
VERSION:2.0
PRODID:-//Museo Gypsotheca Antonio Canova - ECPv6.6.4.2//NONSGML v1.0//EN
CALSCALE:GREGORIAN
METHOD:PUBLISH
X-ORIGINAL-URL:https://www.museocanova.it
X-WR-CALDESC:Events for Museo Gypsotheca Antonio Canova
REFRESH-INTERVAL;VALUE=DURATION:PT1H
X-Robots-Tag:noindex
X-PUBLISHED-TTL:PT1H
BEGIN:VTIMEZONE
TZID:Europe/Rome
BEGIN:DAYLIGHT
TZOFFSETFROM:+0100
TZOFFSETTO:+0200
TZNAME:CEST
DTSTART:20250330T010000
END:DAYLIGHT
BEGIN:STANDARD
TZOFFSETFROM:+0200
TZOFFSETTO:+0100
TZNAME:CET
DTSTART:20251026T010000
END:STANDARD
END:VTIMEZONE
BEGIN:VEVENT
DTSTART;TZID=Europe/Rome:20250301T160000
DTEND;TZID=Europe/Rome:20250301T170000
DTSTAMP:20260420T110322
CREATED:20240116T130826Z
LAST-MODIFIED:20260113T090228Z
UID:10001487-1740844800-1740848400@www.museocanova.it
SUMMARY:Visita guidata tattile
DESCRIPTION:
URL:https://www.museocanova.it/calendario/visite-guidate-tattili/2025-03-01/
CATEGORIES:Visite guidate
ATTACH;FMTTYPE=image/png:https://www.museocanova.it/2022/wp-content/uploads/2024/01/tattili-boxed.png
END:VEVENT
BEGIN:VEVENT
DTSTART;TZID=Europe/Rome:20250308T160000
DTEND;TZID=Europe/Rome:20250308T173000
DTSTAMP:20260420T110322
CREATED:20250224T095207Z
LAST-MODIFIED:20250224T095507Z
UID:10001493-1741449600-1741455000@www.museocanova.it
SUMMARY:I Fratelli Alinari alla Gypsotheca di Possagno e la fotografia di scultura
DESCRIPTION:
URL:https://www.museocanova.it/calendario/fotografia-scultura-alinari/
CATEGORIES:Appuntamenti
ATTACH;FMTTYPE=image/jpeg:https://www.museocanova.it/2022/wp-content/uploads/2025/02/foto2.jpg
END:VEVENT
BEGIN:VEVENT
DTSTART;TZID=Europe/Rome:20250308T160000
DTEND;TZID=Europe/Rome:20250308T173000
DTSTAMP:20260420T110322
CREATED:20250801T130940Z
LAST-MODIFIED:20250801T131058Z
UID:10001727-1741449600-1741455000@www.museocanova.it
SUMMARY:Laboratori fotografici: sguardi in movimento
DESCRIPTION:
URL:https://www.museocanova.it/calendario/lab-foto/2025-03-08/
CATEGORIES:Appuntamenti
ATTACH;FMTTYPE=image/jpeg:https://www.museocanova.it/2022/wp-content/uploads/2025/01/thumb-Amendola.jpg
END:VEVENT
BEGIN:VEVENT
DTSTART;TZID=Europe/Rome:20250308T160000
DTEND;TZID=Europe/Rome:20250308T173000
DTSTAMP:20260420T110322
CREATED:20250801T131702Z
LAST-MODIFIED:20250801T131702Z
UID:10001730-1741449600-1741455000@www.museocanova.it
SUMMARY:Laboratori fotografici: sguardi in movimento
DESCRIPTION:
URL:https://www.museocanova.it/calendario/laboratori-fotografici-sguardi-in-movimento/2025-03-08/
CATEGORIES:Appuntamenti
ATTACH;FMTTYPE=image/jpeg:https://www.museocanova.it/2022/wp-content/uploads/2025/01/thumb-Amendola.jpg
END:VEVENT
BEGIN:VEVENT
DTSTART;TZID=Europe/Rome:20250308T160000
DTEND;TZID=Europe/Rome:20250308T173000
DTSTAMP:20260420T110322
CREATED:20250806T150332Z
LAST-MODIFIED:20250807T070608Z
UID:10001735-1741449600-1741455000@www.museocanova.it
SUMMARY:Corso di fotografia | Il ritratto tra staticità e movimento
DESCRIPTION:
URL:https://www.museocanova.it/calendario/laboratori-fotografici-sguardi-in-movimento-2/2025-03-08/
CATEGORIES:Appuntamenti
ATTACH;FMTTYPE=image/jpeg:https://www.museocanova.it/2022/wp-content/uploads/2025/08/20250805_A0004.jpg
END:VEVENT
BEGIN:VEVENT
DTSTART;TZID=Europe/Rome:20250308T193000
DTEND;TZID=Europe/Rome:20250308T213000
DTSTAMP:20260420T110322
CREATED:20250205T114158Z
LAST-MODIFIED:20250205T114158Z
UID:10001478-1741462200-1741469400@www.museocanova.it
SUMMARY:Alla luce di Psiche - visita notturna
DESCRIPTION:
URL:https://www.museocanova.it/calendario/alla-luce-di-psiche-2-2-2/
CATEGORIES:Appuntamenti
ATTACH;FMTTYPE=image/jpeg:https://www.museocanova.it/2022/wp-content/uploads/2022/10/Allalucedipsiche_mobile_thumbnail.jpg
END:VEVENT
BEGIN:VEVENT
DTSTART;TZID=Europe/Rome:20250315T160000
DTEND;TZID=Europe/Rome:20250315T170000
DTSTAMP:20260420T110322
CREATED:20220914T143557Z
LAST-MODIFIED:20260316T144238Z
UID:10001379-1742054400-1742058000@www.museocanova.it
SUMMARY:Laboratori creativi
DESCRIPTION:
URL:https://www.museocanova.it/calendario/laboratori-creativi/2025-03-15/
CATEGORIES:Appuntamenti
ATTACH;FMTTYPE=image/jpeg:https://www.museocanova.it/2022/wp-content/uploads/2022/09/Museo_Gypsotheca_Canova_Laboratori_per_bambini_thumb.jpg
END:VEVENT
BEGIN:VEVENT
DTSTART;TZID=Europe/Rome:20250321T080000
DTEND;TZID=Europe/Rome:20250321T170000
DTSTAMP:20260420T110322
CREATED:20260219T092342Z
LAST-MODIFIED:20260305T095254Z
UID:10001942-1742544000-1742576400@www.museocanova.it
SUMMARY:Open Day insegnanti - Il Museo è un'aula
DESCRIPTION:
URL:https://www.museocanova.it/calendario/open-day-insegnanti-il-museo-e-un-aula/2025-03-21/
CATEGORIES:Appuntamenti
ATTACH;FMTTYPE=image/jpeg:https://www.museocanova.it/2022/wp-content/uploads/2022/09/visite_guidate_famiglie_museo_canova_thumb-e1664185662848.jpg
END:VEVENT
BEGIN:VEVENT
DTSTART;TZID=Europe/Rome:20250323T000000
DTEND;TZID=Europe/Rome:20250621T000000
DTSTAMP:20260420T110322
CREATED:20250312T150036Z
LAST-MODIFIED:20250331T110040Z
UID:10001498-1742688000-1750464000@www.museocanova.it
SUMMARY:Canova e la nascita della scultura moderna
DESCRIPTION:
URL:https://www.museocanova.it/calendario/canova-nascita-scultura-moderna/
CATEGORIES:Mostre
ATTACH;FMTTYPE=image/jpeg:https://www.museocanova.it/2022/wp-content/uploads/2025/03/header-Teseo.jpg
END:VEVENT
END:VCALENDAR