BEGIN:VCALENDAR
VERSION:2.0
PRODID:-//Museo Gypsotheca Antonio Canova - ECPv6.6.4.2//NONSGML v1.0//EN
CALSCALE:GREGORIAN
METHOD:PUBLISH
X-ORIGINAL-URL:https://www.museocanova.it
X-WR-CALDESC:Events for Museo Gypsotheca Antonio Canova
REFRESH-INTERVAL;VALUE=DURATION:PT1H
X-Robots-Tag:noindex
X-PUBLISHED-TTL:PT1H
BEGIN:VTIMEZONE
TZID:Europe/Rome
BEGIN:DAYLIGHT
TZOFFSETFROM:+0100
TZOFFSETTO:+0200
TZNAME:CEST
DTSTART:20240331T010000
END:DAYLIGHT
BEGIN:STANDARD
TZOFFSETFROM:+0200
TZOFFSETTO:+0100
TZNAME:CET
DTSTART:20241027T010000
END:STANDARD
BEGIN:DAYLIGHT
TZOFFSETFROM:+0100
TZOFFSETTO:+0200
TZNAME:CEST
DTSTART:20250330T010000
END:DAYLIGHT
BEGIN:STANDARD
TZOFFSETFROM:+0200
TZOFFSETTO:+0100
TZNAME:CET
DTSTART:20251026T010000
END:STANDARD
END:VTIMEZONE
BEGIN:VEVENT
DTSTART;TZID=Europe/Rome:20240420T000000
DTEND;TZID=Europe/Rome:20250107T000000
DTSTAMP:20260421T134951
CREATED:20240418T193137Z
LAST-MODIFIED:20250624T081709Z
UID:10000407-1713571200-1736208000@www.museocanova.it
SUMMARY:Canova. Quattro Tempi
DESCRIPTION:
URL:https://www.museocanova.it/calendario/canova-quattro-tempi/
CATEGORIES:Mostre
ATTACH;FMTTYPE=image/jpeg:https://www.museocanova.it/2022/wp-content/uploads/2024/04/spina-preview.jpg
END:VEVENT
BEGIN:VEVENT
DTSTART;TZID=Europe/Rome:20240502T113000
DTEND;TZID=Europe/Rome:20240502T163000
DTSTAMP:20260421T134951
CREATED:20240427T083955Z
LAST-MODIFIED:20240427T084501Z
UID:10001149-1714649400-1714667400@www.museocanova.it
SUMMARY:Visite guidate spontanee straordinarie
DESCRIPTION:
URL:https://www.museocanova.it/calendario/visite-guidate-spontanee-straordinarie/2024-05-02/
CATEGORIES:Visite guidate
ATTACH;FMTTYPE=image/jpeg:https://www.museocanova.it/2022/wp-content/uploads/2022/09/museo_canova_visite_guidate_spontanee_possagno-1.jpg
END:VEVENT
BEGIN:VEVENT
DTSTART;TZID=Europe/Rome:20240503T113000
DTEND;TZID=Europe/Rome:20240503T163000
DTSTAMP:20260421T134951
CREATED:20240427T083955Z
LAST-MODIFIED:20240427T084501Z
UID:10001150-1714735800-1714753800@www.museocanova.it
SUMMARY:Visite guidate spontanee straordinarie
DESCRIPTION:
URL:https://www.museocanova.it/calendario/visite-guidate-spontanee-straordinarie/2024-05-03/
CATEGORIES:Visite guidate
ATTACH;FMTTYPE=image/jpeg:https://www.museocanova.it/2022/wp-content/uploads/2022/09/museo_canova_visite_guidate_spontanee_possagno-1.jpg
END:VEVENT
BEGIN:VEVENT
DTSTART;TZID=Europe/Rome:20240504T160000
DTEND;TZID=Europe/Rome:20240504T170000
DTSTAMP:20260421T134951
CREATED:20240426T120944Z
LAST-MODIFIED:20240427T084633Z
UID:10001130-1714838400-1714842000@www.museocanova.it
SUMMARY:Oltre il Bianco. Il colore in scultura dagli antichi a Canova - conferenza con Paolo Bensi
DESCRIPTION:
URL:https://www.museocanova.it/calendario/oltre-il-bianco-il-colore-in-scultura-dagli-antichi-a-canova-conferenza-con-paolo-bensi/
CATEGORIES:Appuntamenti
ATTACH;FMTTYPE=image/jpeg:https://www.museocanova.it/2022/wp-content/uploads/2024/04/header-Bensi.jpg
END:VEVENT
BEGIN:VEVENT
DTSTART;TZID=Europe/Rome:20240505T153000
DTEND;TZID=Europe/Rome:20240505T163000
DTSTAMP:20260421T134951
CREATED:20240222T152212Z
LAST-MODIFIED:20240223T113508Z
UID:10001001-1714923000-1714926600@www.museocanova.it
SUMMARY:Il Mito in scultura
DESCRIPTION:
URL:https://www.museocanova.it/calendario/il-mito-in-scultura/
CATEGORIES:Visite guidate
ATTACH;FMTTYPE=image/jpeg:https://www.museocanova.it/2022/wp-content/uploads/2022/06/Museo_Gypsotheca_Antonio_Canova_Marte_e_Venere_Possagno_thumb.jpg
END:VEVENT
BEGIN:VEVENT
DTSTART;TZID=Europe/Rome:20240505T160000
DTEND;TZID=Europe/Rome:20240505T170000
DTSTAMP:20260421T134951
CREATED:20231123T161928Z
LAST-MODIFIED:20241203T111643Z
UID:10001152-1714924800-1714928400@www.museocanova.it
SUMMARY:Visite guidate per famiglie
DESCRIPTION:https://www.museocanova.it/calendario/categoria/visite-guidate/
URL:https://www.museocanova.it/calendario/visite-guidate-per-famiglie-2/2024-05-05/
CATEGORIES:Visite guidate
ATTACH;FMTTYPE=image/jpeg:https://www.museocanova.it/2022/wp-content/uploads/2022/09/visite_guidate_famiglie_museo_gypsotheca_canova_thumb.jpg
END:VEVENT
BEGIN:VEVENT
DTSTART;TZID=Europe/Rome:20240510T160000
DTEND;TZID=Europe/Rome:20240510T170000
DTSTAMP:20260421T134951
CREATED:20241216T092312Z
LAST-MODIFIED:20241216T092314Z
UID:10001345-1715356800-1715360400@www.museocanova.it
SUMMARY:Visite guidate per famiglie
DESCRIPTION:https://www.museocanova.it/calendario/categoria/visite-guidate/
URL:https://www.museocanova.it/calendario/visite-guidate-per-famiglie-2-2/2024-05-10/
ATTACH;FMTTYPE=image/jpeg:https://www.museocanova.it/2022/wp-content/uploads/2022/09/visite_guidate_famiglie_museo_gypsotheca_canova_thumb.jpg
END:VEVENT
BEGIN:VEVENT
DTSTART;TZID=Europe/Rome:20240511T160000
DTEND;TZID=Europe/Rome:20240511T170000
DTSTAMP:20260421T134951
CREATED:20240116T130826Z
LAST-MODIFIED:20260113T090228Z
UID:10000979-1715443200-1715446800@www.museocanova.it
SUMMARY:Visita guidata tattile
DESCRIPTION:
URL:https://www.museocanova.it/calendario/visite-guidate-tattili/2024-05-11/
CATEGORIES:Visite guidate
ATTACH;FMTTYPE=image/png:https://www.museocanova.it/2022/wp-content/uploads/2024/01/tattili-boxed.png
END:VEVENT
BEGIN:VEVENT
DTSTART;TZID=Europe/Rome:20240512T160000
DTEND;TZID=Europe/Rome:20240512T190000
DTSTAMP:20260421T134951
CREATED:20240504T091307Z
LAST-MODIFIED:20240504T091307Z
UID:10001156-1715529600-1715540400@www.museocanova.it
SUMMARY:Kid Pass Days
DESCRIPTION:
URL:https://www.museocanova.it/calendario/kid-pass-days/
CATEGORIES:Appuntamenti,Visite guidate
ATTACH;FMTTYPE=image/jpeg:https://www.museocanova.it/2022/wp-content/uploads/2024/05/438163098_840889278077275_1171984800150333646_n.jpg
END:VEVENT
BEGIN:VEVENT
DTSTART;TZID=Europe/Rome:20240518T160000
DTEND;TZID=Europe/Rome:20240518T170000
DTSTAMP:20260421T134951
CREATED:20220914T143557Z
LAST-MODIFIED:20260316T144238Z
UID:10001099-1716048000-1716051600@www.museocanova.it
SUMMARY:Laboratori creativi
DESCRIPTION:
URL:https://www.museocanova.it/calendario/laboratori-creativi/2024-05-18/
CATEGORIES:Appuntamenti
ATTACH;FMTTYPE=image/jpeg:https://www.museocanova.it/2022/wp-content/uploads/2022/09/Museo_Gypsotheca_Canova_Laboratori_per_bambini_thumb.jpg
END:VEVENT
END:VCALENDAR