BEGIN:VCALENDAR
VERSION:2.0
PRODID:-//Museo Gypsotheca Antonio Canova - ECPv6.6.4.2//NONSGML v1.0//EN
CALSCALE:GREGORIAN
METHOD:PUBLISH
X-ORIGINAL-URL:https://www.museocanova.it
X-WR-CALDESC:Events for Museo Gypsotheca Antonio Canova
REFRESH-INTERVAL;VALUE=DURATION:PT1H
X-Robots-Tag:noindex
X-PUBLISHED-TTL:PT1H
BEGIN:VTIMEZONE
TZID:Europe/Rome
BEGIN:DAYLIGHT
TZOFFSETFROM:+0100
TZOFFSETTO:+0200
TZNAME:CEST
DTSTART:20250330T010000
END:DAYLIGHT
BEGIN:STANDARD
TZOFFSETFROM:+0200
TZOFFSETTO:+0100
TZNAME:CET
DTSTART:20251026T010000
END:STANDARD
END:VTIMEZONE
BEGIN:VEVENT
DTSTART;TZID=Europe/Rome:20250816T103000
DTEND;TZID=Europe/Rome:20250816T163000
DTSTAMP:20260421T081820
CREATED:20250122T102813Z
LAST-MODIFIED:20260317T145657Z
UID:10001640-1755340200-1755361800@www.museocanova.it
SUMMARY:Visite guidate spontanee / sabato
DESCRIPTION:
URL:https://www.museocanova.it/calendario/visite-guidate-spontanee-sabato-4/2025-08-16/
CATEGORIES:Visite guidate
ATTACH;FMTTYPE=image/jpeg:https://www.museocanova.it/2022/wp-content/uploads/2022/09/museo_canova_visite_guidate_spontanee_possagno-1.jpg
END:VEVENT
BEGIN:VEVENT
DTSTART;TZID=Europe/Rome:20250816T110000
DTEND;TZID=Europe/Rome:20250816T120000
DTSTAMP:20260421T081820
CREATED:20250814T134516Z
LAST-MODIFIED:20250814T134632Z
UID:10001743-1755342000-1755345600@www.museocanova.it
SUMMARY:Visita guidata alla mostra Carlo Scarpa e le arti alla Biennale. Opere e vetri dalla Collezione Gemin
DESCRIPTION:
URL:https://www.museocanova.it/calendario/visita-museo-mostra-scarpa-3/
CATEGORIES:Visite guidate
ATTACH;FMTTYPE=image/jpeg:https://www.museocanova.it/2022/wp-content/uploads/2025/05/thumb-mostra-Scarpa-Gemin-1.jpg
END:VEVENT
BEGIN:VEVENT
DTSTART;TZID=Europe/Rome:20250816T123000
DTEND;TZID=Europe/Rome:20250816T133000
DTSTAMP:20260421T081820
CREATED:20250723T081229Z
LAST-MODIFIED:20260317T150623Z
UID:10001708-1755347400-1755351000@www.museocanova.it
SUMMARY:Visite guidate in lingua inglese
DESCRIPTION:
URL:https://www.museocanova.it/calendario/visite-guidate-in-lingua-inglese-2/2025-08-16/
CATEGORIES:Visite guidate
ATTACH;FMTTYPE=image/jpeg:https://www.museocanova.it/2022/wp-content/uploads/2022/09/museo_canova_visite_guidate_spontanee_possagno_thumb.jpg
END:VEVENT
BEGIN:VEVENT
DTSTART;TZID=Europe/Rome:20250817T110000
DTEND;TZID=Europe/Rome:20250817T120000
DTSTAMP:20260421T081820
CREATED:20250814T134848Z
LAST-MODIFIED:20250814T134848Z
UID:10001676-1755428400-1755432000@www.museocanova.it
SUMMARY:Visita guidata alla mostra Carlo Scarpa e le arti alla Biennale. Opere e vetri dalla Collezione Gemin
DESCRIPTION:
URL:https://www.museocanova.it/calendario/visita-museo-mostra-scarpa-4/
CATEGORIES:Visite guidate
ATTACH;FMTTYPE=image/jpeg:https://www.museocanova.it/2022/wp-content/uploads/2025/05/thumb-mostra-Scarpa-Gemin-1.jpg
END:VEVENT
BEGIN:VEVENT
DTSTART;TZID=Europe/Rome:20250819T110000
DTEND;TZID=Europe/Rome:20250819T170000
DTSTAMP:20260421T081820
CREATED:20240710T162241Z
LAST-MODIFIED:20250730T070125Z
UID:10001687-1755601200-1755622800@www.museocanova.it
SUMMARY:Agosto al Museo - visite guidate
DESCRIPTION:
URL:https://www.museocanova.it/calendario/agosto-al-museo-2/2025-08-19/
CATEGORIES:Visite guidate
ATTACH;FMTTYPE=image/jpeg:https://www.museocanova.it/2022/wp-content/uploads/2022/12/Innamoratipsiche_mobile.jpg
END:VEVENT
BEGIN:VEVENT
DTSTART;TZID=Europe/Rome:20250820T110000
DTEND;TZID=Europe/Rome:20250820T170000
DTSTAMP:20260421T081820
CREATED:20240710T162241Z
LAST-MODIFIED:20250730T070125Z
UID:10001688-1755687600-1755709200@www.museocanova.it
SUMMARY:Agosto al Museo - visite guidate
DESCRIPTION:
URL:https://www.museocanova.it/calendario/agosto-al-museo-2/2025-08-20/
CATEGORIES:Visite guidate
ATTACH;FMTTYPE=image/jpeg:https://www.museocanova.it/2022/wp-content/uploads/2022/12/Innamoratipsiche_mobile.jpg
END:VEVENT
BEGIN:VEVENT
DTSTART;TZID=Europe/Rome:20250821T110000
DTEND;TZID=Europe/Rome:20250821T170000
DTSTAMP:20260421T081820
CREATED:20240710T162241Z
LAST-MODIFIED:20250730T070125Z
UID:10001689-1755774000-1755795600@www.museocanova.it
SUMMARY:Agosto al Museo - visite guidate
DESCRIPTION:
URL:https://www.museocanova.it/calendario/agosto-al-museo-2/2025-08-21/
CATEGORIES:Visite guidate
ATTACH;FMTTYPE=image/jpeg:https://www.museocanova.it/2022/wp-content/uploads/2022/12/Innamoratipsiche_mobile.jpg
END:VEVENT
BEGIN:VEVENT
DTSTART;TZID=Europe/Rome:20250822T110000
DTEND;TZID=Europe/Rome:20250822T170000
DTSTAMP:20260421T081820
CREATED:20240710T162241Z
LAST-MODIFIED:20250730T070125Z
UID:10001690-1755860400-1755882000@www.museocanova.it
SUMMARY:Agosto al Museo - visite guidate
DESCRIPTION:
URL:https://www.museocanova.it/calendario/agosto-al-museo-2/2025-08-22/
CATEGORIES:Visite guidate
ATTACH;FMTTYPE=image/jpeg:https://www.museocanova.it/2022/wp-content/uploads/2022/12/Innamoratipsiche_mobile.jpg
END:VEVENT
BEGIN:VEVENT
DTSTART;TZID=Europe/Rome:20250823T103000
DTEND;TZID=Europe/Rome:20250823T163000
DTSTAMP:20260421T081820
CREATED:20250122T102813Z
LAST-MODIFIED:20260317T145657Z
UID:10001641-1755945000-1755966600@www.museocanova.it
SUMMARY:Visite guidate spontanee / sabato
DESCRIPTION:
URL:https://www.museocanova.it/calendario/visite-guidate-spontanee-sabato-4/2025-08-23/
CATEGORIES:Visite guidate
ATTACH;FMTTYPE=image/jpeg:https://www.museocanova.it/2022/wp-content/uploads/2022/09/museo_canova_visite_guidate_spontanee_possagno-1.jpg
END:VEVENT
BEGIN:VEVENT
DTSTART;TZID=Europe/Rome:20250823T123000
DTEND;TZID=Europe/Rome:20250823T133000
DTSTAMP:20260421T081820
CREATED:20250723T081229Z
LAST-MODIFIED:20260317T150623Z
UID:10001709-1755952200-1755955800@www.museocanova.it
SUMMARY:Visite guidate in lingua inglese
DESCRIPTION:
URL:https://www.museocanova.it/calendario/visite-guidate-in-lingua-inglese-2/2025-08-23/
CATEGORIES:Visite guidate
ATTACH;FMTTYPE=image/jpeg:https://www.museocanova.it/2022/wp-content/uploads/2022/09/museo_canova_visite_guidate_spontanee_possagno_thumb.jpg
END:VEVENT
BEGIN:VEVENT
DTSTART;TZID=Europe/Rome:20250824T163000
DTEND;TZID=Europe/Rome:20250824T180000
DTSTAMP:20260421T081820
CREATED:20250630T090735Z
LAST-MODIFIED:20250930T115138Z
UID:10001677-1756053000-1756058400@www.museocanova.it
SUMMARY:Visita guidata al Museo e alla mostra Carlo Scarpa e le arti alla Biennale. Opere e vetri dalla Collezione Gemin
DESCRIPTION:
URL:https://www.museocanova.it/calendario/visita-museo-mostra-scarpa-5/2025-08-24/
CATEGORIES:Visite guidate
ATTACH;FMTTYPE=image/jpeg:https://www.museocanova.it/2022/wp-content/uploads/2025/05/thumb-mostra-Scarpa-Gemin-1.jpg
END:VEVENT
BEGIN:VEVENT
DTSTART;TZID=Europe/Rome:20250830T103000
DTEND;TZID=Europe/Rome:20250830T163000
DTSTAMP:20260421T081820
CREATED:20250122T102813Z
LAST-MODIFIED:20260317T145657Z
UID:10001642-1756549800-1756571400@www.museocanova.it
SUMMARY:Visite guidate spontanee / sabato
DESCRIPTION:
URL:https://www.museocanova.it/calendario/visite-guidate-spontanee-sabato-4/2025-08-30/
CATEGORIES:Visite guidate
ATTACH;FMTTYPE=image/jpeg:https://www.museocanova.it/2022/wp-content/uploads/2022/09/museo_canova_visite_guidate_spontanee_possagno-1.jpg
END:VEVENT
BEGIN:VEVENT
DTSTART;TZID=Europe/Rome:20250830T123000
DTEND;TZID=Europe/Rome:20250830T133000
DTSTAMP:20260421T081820
CREATED:20250723T081229Z
LAST-MODIFIED:20260317T150623Z
UID:10001710-1756557000-1756560600@www.museocanova.it
SUMMARY:Visite guidate in lingua inglese
DESCRIPTION:
URL:https://www.museocanova.it/calendario/visite-guidate-in-lingua-inglese-2/2025-08-30/
CATEGORIES:Visite guidate
ATTACH;FMTTYPE=image/jpeg:https://www.museocanova.it/2022/wp-content/uploads/2022/09/museo_canova_visite_guidate_spontanee_possagno_thumb.jpg
END:VEVENT
BEGIN:VEVENT
DTSTART;TZID=Europe/Rome:20250831T163000
DTEND;TZID=Europe/Rome:20250831T180000
DTSTAMP:20260421T081820
CREATED:20250630T090735Z
LAST-MODIFIED:20250930T115138Z
UID:10001678-1756657800-1756663200@www.museocanova.it
SUMMARY:Visita guidata al Museo e alla mostra Carlo Scarpa e le arti alla Biennale. Opere e vetri dalla Collezione Gemin
DESCRIPTION:
URL:https://www.museocanova.it/calendario/visita-museo-mostra-scarpa-5/2025-08-31/
CATEGORIES:Visite guidate
ATTACH;FMTTYPE=image/jpeg:https://www.museocanova.it/2022/wp-content/uploads/2025/05/thumb-mostra-Scarpa-Gemin-1.jpg
END:VEVENT
BEGIN:VEVENT
DTSTART;TZID=Europe/Rome:20250903T140000
DTEND;TZID=Europe/Rome:20250903T180000
DTSTAMP:20260421T081820
CREATED:20240824T141457Z
LAST-MODIFIED:20250820T075408Z
UID:10001242-1756908000-1756922400@www.museocanova.it
SUMMARY:Edu Day 2025
DESCRIPTION:
URL:https://www.museocanova.it/calendario/edu-day-2024/
LOCATION:Museo Gypsotheca Antonio Canova
CATEGORIES:Appuntamenti
ATTACH;FMTTYPE=image/jpeg:https://www.museocanova.it/2022/wp-content/uploads/2024/08/4c9e9d85-8ee4-1821-11db-d12bdda785cf.jpeg
END:VEVENT
BEGIN:VEVENT
DTSTART;TZID=Europe/Rome:20250906T103000
DTEND;TZID=Europe/Rome:20250906T163000
DTSTAMP:20260421T081820
CREATED:20250122T102813Z
LAST-MODIFIED:20260317T145657Z
UID:10001643-1757154600-1757176200@www.museocanova.it
SUMMARY:Visite guidate spontanee / sabato
DESCRIPTION:
URL:https://www.museocanova.it/calendario/visite-guidate-spontanee-sabato-4/2025-09-06/
CATEGORIES:Visite guidate
ATTACH;FMTTYPE=image/jpeg:https://www.museocanova.it/2022/wp-content/uploads/2022/09/museo_canova_visite_guidate_spontanee_possagno-1.jpg
END:VEVENT
BEGIN:VEVENT
DTSTART;TZID=Europe/Rome:20250906T123000
DTEND;TZID=Europe/Rome:20250906T133000
DTSTAMP:20260421T081820
CREATED:20250723T081229Z
LAST-MODIFIED:20260317T150623Z
UID:10001711-1757161800-1757165400@www.museocanova.it
SUMMARY:Visite guidate in lingua inglese
DESCRIPTION:
URL:https://www.museocanova.it/calendario/visite-guidate-in-lingua-inglese-2/2025-09-06/
CATEGORIES:Visite guidate
ATTACH;FMTTYPE=image/jpeg:https://www.museocanova.it/2022/wp-content/uploads/2022/09/museo_canova_visite_guidate_spontanee_possagno_thumb.jpg
END:VEVENT
BEGIN:VEVENT
DTSTART;TZID=Europe/Rome:20250907T163000
DTEND;TZID=Europe/Rome:20250907T180000
DTSTAMP:20260421T081820
CREATED:20250630T090735Z
LAST-MODIFIED:20250930T115138Z
UID:10001679-1757262600-1757268000@www.museocanova.it
SUMMARY:Visita guidata al Museo e alla mostra Carlo Scarpa e le arti alla Biennale. Opere e vetri dalla Collezione Gemin
DESCRIPTION:
URL:https://www.museocanova.it/calendario/visita-museo-mostra-scarpa-5/2025-09-07/
CATEGORIES:Visite guidate
ATTACH;FMTTYPE=image/jpeg:https://www.museocanova.it/2022/wp-content/uploads/2025/05/thumb-mostra-Scarpa-Gemin-1.jpg
END:VEVENT
BEGIN:VEVENT
DTSTART;TZID=Europe/Rome:20250913T103000
DTEND;TZID=Europe/Rome:20250913T163000
DTSTAMP:20260421T081820
CREATED:20250122T102813Z
LAST-MODIFIED:20260317T145657Z
UID:10001644-1757759400-1757781000@www.museocanova.it
SUMMARY:Visite guidate spontanee / sabato
DESCRIPTION:
URL:https://www.museocanova.it/calendario/visite-guidate-spontanee-sabato-4/2025-09-13/
CATEGORIES:Visite guidate
ATTACH;FMTTYPE=image/jpeg:https://www.museocanova.it/2022/wp-content/uploads/2022/09/museo_canova_visite_guidate_spontanee_possagno-1.jpg
END:VEVENT
BEGIN:VEVENT
DTSTART;TZID=Europe/Rome:20250913T123000
DTEND;TZID=Europe/Rome:20250913T133000
DTSTAMP:20260421T081820
CREATED:20250723T081229Z
LAST-MODIFIED:20260317T150623Z
UID:10001712-1757766600-1757770200@www.museocanova.it
SUMMARY:Visite guidate in lingua inglese
DESCRIPTION:
URL:https://www.museocanova.it/calendario/visite-guidate-in-lingua-inglese-2/2025-09-13/
CATEGORIES:Visite guidate
ATTACH;FMTTYPE=image/jpeg:https://www.museocanova.it/2022/wp-content/uploads/2022/09/museo_canova_visite_guidate_spontanee_possagno_thumb.jpg
END:VEVENT
BEGIN:VEVENT
DTSTART;TZID=Europe/Rome:20250914T163000
DTEND;TZID=Europe/Rome:20250914T180000
DTSTAMP:20260421T081820
CREATED:20250630T090735Z
LAST-MODIFIED:20250930T115138Z
UID:10001680-1757867400-1757872800@www.museocanova.it
SUMMARY:Visita guidata al Museo e alla mostra Carlo Scarpa e le arti alla Biennale. Opere e vetri dalla Collezione Gemin
DESCRIPTION:
URL:https://www.museocanova.it/calendario/visita-museo-mostra-scarpa-5/2025-09-14/
CATEGORIES:Visite guidate
ATTACH;FMTTYPE=image/jpeg:https://www.museocanova.it/2022/wp-content/uploads/2025/05/thumb-mostra-Scarpa-Gemin-1.jpg
END:VEVENT
BEGIN:VEVENT
DTSTART;TZID=Europe/Rome:20250920T103000
DTEND;TZID=Europe/Rome:20250920T163000
DTSTAMP:20260421T081820
CREATED:20250122T102813Z
LAST-MODIFIED:20260317T145657Z
UID:10001645-1758364200-1758385800@www.museocanova.it
SUMMARY:Visite guidate spontanee / sabato
DESCRIPTION:
URL:https://www.museocanova.it/calendario/visite-guidate-spontanee-sabato-4/2025-09-20/
CATEGORIES:Visite guidate
ATTACH;FMTTYPE=image/jpeg:https://www.museocanova.it/2022/wp-content/uploads/2022/09/museo_canova_visite_guidate_spontanee_possagno-1.jpg
END:VEVENT
BEGIN:VEVENT
DTSTART;TZID=Europe/Rome:20250920T123000
DTEND;TZID=Europe/Rome:20250920T133000
DTSTAMP:20260421T081820
CREATED:20250723T081229Z
LAST-MODIFIED:20260317T150623Z
UID:10001713-1758371400-1758375000@www.museocanova.it
SUMMARY:Visite guidate in lingua inglese
DESCRIPTION:
URL:https://www.museocanova.it/calendario/visite-guidate-in-lingua-inglese-2/2025-09-20/
CATEGORIES:Visite guidate
ATTACH;FMTTYPE=image/jpeg:https://www.museocanova.it/2022/wp-content/uploads/2022/09/museo_canova_visite_guidate_spontanee_possagno_thumb.jpg
END:VEVENT
BEGIN:VEVENT
DTSTART;TZID=Europe/Rome:20250920T150000
DTEND;TZID=Europe/Rome:20250920T170000
DTSTAMP:20260421T081820
CREATED:20250821T092911Z
LAST-MODIFIED:20250902T080011Z
UID:10001746-1758380400-1758387600@www.museocanova.it
SUMMARY:Estate Tizianesca - Rappresentare la bellezza
DESCRIPTION:
URL:https://www.museocanova.it/calendario/estate-tizianesca-museo-canova/
CATEGORIES:Appuntamenti
ATTACH;FMTTYPE=image/png:https://www.museocanova.it/2022/wp-content/uploads/2025/08/immagine-20-settembre.png
END:VEVENT
BEGIN:VEVENT
DTSTART;TZID=Europe/Rome:20250920T160000
DTEND;TZID=Europe/Rome:20250920T170000
DTSTAMP:20260421T081820
CREATED:20250801T130940Z
LAST-MODIFIED:20250801T131058Z
UID:10001728-1758384000-1758387600@www.museocanova.it
SUMMARY:Laboratori fotografici: sguardi in movimento
DESCRIPTION:
URL:https://www.museocanova.it/calendario/lab-foto/2025-09-20/
CATEGORIES:Appuntamenti
ATTACH;FMTTYPE=image/jpeg:https://www.museocanova.it/2022/wp-content/uploads/2025/01/thumb-Amendola.jpg
END:VEVENT
BEGIN:VEVENT
DTSTART;TZID=Europe/Rome:20250921T163000
DTEND;TZID=Europe/Rome:20250921T180000
DTSTAMP:20260421T081820
CREATED:20250630T090735Z
LAST-MODIFIED:20250930T115138Z
UID:10001681-1758472200-1758477600@www.museocanova.it
SUMMARY:Visita guidata al Museo e alla mostra Carlo Scarpa e le arti alla Biennale. Opere e vetri dalla Collezione Gemin
DESCRIPTION:
URL:https://www.museocanova.it/calendario/visita-museo-mostra-scarpa-5/2025-09-21/
CATEGORIES:Visite guidate
ATTACH;FMTTYPE=image/jpeg:https://www.museocanova.it/2022/wp-content/uploads/2025/05/thumb-mostra-Scarpa-Gemin-1.jpg
END:VEVENT
BEGIN:VEVENT
DTSTART;TZID=Europe/Rome:20250927T103000
DTEND;TZID=Europe/Rome:20250927T163000
DTSTAMP:20260421T081820
CREATED:20250122T102813Z
LAST-MODIFIED:20260317T145657Z
UID:10001646-1758969000-1758990600@www.museocanova.it
SUMMARY:Visite guidate spontanee / sabato
DESCRIPTION:
URL:https://www.museocanova.it/calendario/visite-guidate-spontanee-sabato-4/2025-09-27/
CATEGORIES:Visite guidate
ATTACH;FMTTYPE=image/jpeg:https://www.museocanova.it/2022/wp-content/uploads/2022/09/museo_canova_visite_guidate_spontanee_possagno-1.jpg
END:VEVENT
BEGIN:VEVENT
DTSTART;TZID=Europe/Rome:20250927T123000
DTEND;TZID=Europe/Rome:20250927T133000
DTSTAMP:20260421T081820
CREATED:20250723T081229Z
LAST-MODIFIED:20260317T150623Z
UID:10001714-1758976200-1758979800@www.museocanova.it
SUMMARY:Visite guidate in lingua inglese
DESCRIPTION:
URL:https://www.museocanova.it/calendario/visite-guidate-in-lingua-inglese-2/2025-09-27/
CATEGORIES:Visite guidate
ATTACH;FMTTYPE=image/jpeg:https://www.museocanova.it/2022/wp-content/uploads/2022/09/museo_canova_visite_guidate_spontanee_possagno_thumb.jpg
END:VEVENT
BEGIN:VEVENT
DTSTART;TZID=Europe/Rome:20250927T203000
DTEND;TZID=Europe/Rome:20250927T213000
DTSTAMP:20260421T081820
CREATED:20250820T081654Z
LAST-MODIFIED:20250912T083537Z
UID:10001745-1759005000-1759008600@www.museocanova.it
SUMMARY:Rassegna Mythos – Classici al Museo
DESCRIPTION:
URL:https://www.museocanova.it/calendario/rassegna-mythos-classici-al-museo-3/
CATEGORIES:Appuntamenti
ATTACH;FMTTYPE=image/jpeg:https://www.museocanova.it/2022/wp-content/uploads/2025/05/thumb-Teseo.jpg
END:VEVENT
BEGIN:VEVENT
DTSTART;TZID=Europe/Rome:20250928T163000
DTEND;TZID=Europe/Rome:20250928T180000
DTSTAMP:20260421T081820
CREATED:20250630T090735Z
LAST-MODIFIED:20250930T115138Z
UID:10001682-1759077000-1759082400@www.museocanova.it
SUMMARY:Visita guidata al Museo e alla mostra Carlo Scarpa e le arti alla Biennale. Opere e vetri dalla Collezione Gemin
DESCRIPTION:
URL:https://www.museocanova.it/calendario/visita-museo-mostra-scarpa-5/2025-09-28/
CATEGORIES:Visite guidate
ATTACH;FMTTYPE=image/jpeg:https://www.museocanova.it/2022/wp-content/uploads/2025/05/thumb-mostra-Scarpa-Gemin-1.jpg
END:VEVENT
END:VCALENDAR