BEGIN:VCALENDAR
VERSION:2.0
PRODID:-//Museo Gypsotheca Antonio Canova - ECPv6.6.4.2//NONSGML v1.0//EN
CALSCALE:GREGORIAN
METHOD:PUBLISH
X-ORIGINAL-URL:https://www.museocanova.it
X-WR-CALDESC:Events for Museo Gypsotheca Antonio Canova
REFRESH-INTERVAL;VALUE=DURATION:PT1H
X-Robots-Tag:noindex
X-PUBLISHED-TTL:PT1H
BEGIN:VTIMEZONE
TZID:Europe/Rome
BEGIN:DAYLIGHT
TZOFFSETFROM:+0100
TZOFFSETTO:+0200
TZNAME:CEST
DTSTART:20250330T010000
END:DAYLIGHT
BEGIN:STANDARD
TZOFFSETFROM:+0200
TZOFFSETTO:+0100
TZNAME:CET
DTSTART:20251026T010000
END:STANDARD
BEGIN:DAYLIGHT
TZOFFSETFROM:+0100
TZOFFSETTO:+0200
TZNAME:CEST
DTSTART:20260329T010000
END:DAYLIGHT
BEGIN:STANDARD
TZOFFSETFROM:+0200
TZOFFSETTO:+0100
TZNAME:CET
DTSTART:20261025T010000
END:STANDARD
END:VTIMEZONE
BEGIN:VEVENT
DTSTART;TZID=Europe/Rome:20251207T103000
DTEND;TZID=Europe/Rome:20251207T173000
DTSTAMP:20260421T213410
CREATED:20240223T134204Z
LAST-MODIFIED:20260331T081526Z
UID:10001855-1765103400-1765128600@www.museocanova.it
SUMMARY:Visite guidate spontanee / Domenica e festivi
DESCRIPTION:
URL:https://www.museocanova.it/calendario/visite-guidate-spontanee-domenica-e-festivi-4/2025-12-07/
CATEGORIES:Visite guidate
ATTACH;FMTTYPE=image/jpeg:https://www.museocanova.it/2022/wp-content/uploads/2022/09/museo_canova_possagno_visite_guidate_spontanee.jpg
END:VEVENT
BEGIN:VEVENT
DTSTART;TZID=Europe/Rome:20251208T103000
DTEND;TZID=Europe/Rome:20251208T173000
DTSTAMP:20260421T213410
CREATED:20240223T134204Z
LAST-MODIFIED:20260331T081526Z
UID:10001876-1765189800-1765215000@www.museocanova.it
SUMMARY:Visite guidate spontanee / Domenica e festivi
DESCRIPTION:
URL:https://www.museocanova.it/calendario/visite-guidate-spontanee-domenica-e-festivi-4/2025-12-08/
CATEGORIES:Visite guidate
ATTACH;FMTTYPE=image/jpeg:https://www.museocanova.it/2022/wp-content/uploads/2022/09/museo_canova_possagno_visite_guidate_spontanee.jpg
END:VEVENT
BEGIN:VEVENT
DTSTART;TZID=Europe/Rome:20251213T103000
DTEND;TZID=Europe/Rome:20251213T163000
DTSTAMP:20260421T213410
CREATED:20250122T102813Z
LAST-MODIFIED:20260317T145657Z
UID:10001830-1765621800-1765643400@www.museocanova.it
SUMMARY:Visite guidate spontanee / sabato
DESCRIPTION:
URL:https://www.museocanova.it/calendario/visite-guidate-spontanee-sabato-4/2025-12-13/
CATEGORIES:Visite guidate
ATTACH;FMTTYPE=image/jpeg:https://www.museocanova.it/2022/wp-content/uploads/2022/09/museo_canova_visite_guidate_spontanee_possagno-1.jpg
END:VEVENT
BEGIN:VEVENT
DTSTART;TZID=Europe/Rome:20251213T150000
DTEND;TZID=Europe/Rome:20251213T160000
DTSTAMP:20260421T213410
CREATED:20230529T063634Z
LAST-MODIFIED:20251119T115622Z
UID:10000556-1765638000-1765641600@www.museocanova.it
SUMMARY:Porte aperte per Possagno
DESCRIPTION:
URL:https://www.museocanova.it/calendario/porte-aperte-per-possagno/
CATEGORIES:Appuntamenti
ATTACH;FMTTYPE=image/png:https://www.museocanova.it/2022/wp-content/uploads/2023/05/incontro-possagno.png
END:VEVENT
BEGIN:VEVENT
DTSTART;TZID=Europe/Rome:20251213T160000
DTEND;TZID=Europe/Rome:20251213T170000
DTSTAMP:20260421T213410
CREATED:20251126T132059Z
LAST-MODIFIED:20251126T132121Z
UID:10001875-1765641600-1765645200@www.museocanova.it
SUMMARY:Conferenza - Carlo Scarpa e la Biennale di Venezia
DESCRIPTION:
URL:https://www.museocanova.it/calendario/tra-passione-e-visione-il-racconto-della-collezione-gemin/
CATEGORIES:Appuntamenti
ATTACH;FMTTYPE=image/jpeg:https://www.museocanova.it/2022/wp-content/uploads/2025/05/thumb-mostra-Scarpa-Gemin-1.jpg
END:VEVENT
BEGIN:VEVENT
DTSTART;TZID=Europe/Rome:20251213T163000
DTEND;TZID=Europe/Rome:20251213T173000
DTSTAMP:20260421T213410
CREATED:20250331T081447Z
LAST-MODIFIED:20260317T152059Z
UID:10001540-1765643400-1765647000@www.museocanova.it
SUMMARY:Visita guidata: uno scultore alla corte di Napoleone
DESCRIPTION:
URL:https://www.museocanova.it/calendario/corte-napoleone/2025-12-13/
CATEGORIES:Visite guidate
ATTACH;FMTTYPE=image/jpeg:https://www.museocanova.it/2022/wp-content/uploads/2025/03/thumb-napoleone-1.jpg
END:VEVENT
BEGIN:VEVENT
DTSTART;TZID=Europe/Rome:20251214T103000
DTEND;TZID=Europe/Rome:20251214T173000
DTSTAMP:20260421T213410
CREATED:20240223T134204Z
LAST-MODIFIED:20260331T081526Z
UID:10001856-1765708200-1765733400@www.museocanova.it
SUMMARY:Visite guidate spontanee / Domenica e festivi
DESCRIPTION:
URL:https://www.museocanova.it/calendario/visite-guidate-spontanee-domenica-e-festivi-4/2025-12-14/
CATEGORIES:Visite guidate
ATTACH;FMTTYPE=image/jpeg:https://www.museocanova.it/2022/wp-content/uploads/2022/09/museo_canova_possagno_visite_guidate_spontanee.jpg
END:VEVENT
BEGIN:VEVENT
DTSTART;TZID=Europe/Rome:20251220T103000
DTEND;TZID=Europe/Rome:20251220T163000
DTSTAMP:20260421T213410
CREATED:20250122T102813Z
LAST-MODIFIED:20260317T145657Z
UID:10001831-1766226600-1766248200@www.museocanova.it
SUMMARY:Visite guidate spontanee / sabato
DESCRIPTION:
URL:https://www.museocanova.it/calendario/visite-guidate-spontanee-sabato-4/2025-12-20/
CATEGORIES:Visite guidate
ATTACH;FMTTYPE=image/jpeg:https://www.museocanova.it/2022/wp-content/uploads/2022/09/museo_canova_visite_guidate_spontanee_possagno-1.jpg
END:VEVENT
BEGIN:VEVENT
DTSTART;TZID=Europe/Rome:20251220T160000
DTEND;TZID=Europe/Rome:20251220T170000
DTSTAMP:20260421T213410
CREATED:20250801T131702Z
LAST-MODIFIED:20250801T131702Z
UID:10001734-1766246400-1766250000@www.museocanova.it
SUMMARY:Laboratori fotografici: sguardi in movimento
DESCRIPTION:
URL:https://www.museocanova.it/calendario/laboratori-fotografici-sguardi-in-movimento/2025-12-20/
CATEGORIES:Appuntamenti
ATTACH;FMTTYPE=image/jpeg:https://www.museocanova.it/2022/wp-content/uploads/2025/01/thumb-Amendola.jpg
END:VEVENT
BEGIN:VEVENT
DTSTART;TZID=Europe/Rome:20251220T163000
DTEND;TZID=Europe/Rome:20251220T173000
DTSTAMP:20260421T213410
CREATED:20250331T082707Z
LAST-MODIFIED:20260317T150955Z
UID:10001561-1766248200-1766251800@www.museocanova.it
SUMMARY:Visita guidata: Canova neoclassico
DESCRIPTION:
URL:https://www.museocanova.it/calendario/visita-guidata-canova-neoclassico/2025-12-20/
LOCATION:Museo Gypsotheca Antonio Canova
CATEGORIES:Visite guidate
ATTACH;FMTTYPE=image/jpeg:https://www.museocanova.it/2022/wp-content/uploads/2023/09/Ala-Lazzari_2.jpg
END:VEVENT
BEGIN:VEVENT
DTSTART;TZID=Europe/Rome:20251221T103000
DTEND;TZID=Europe/Rome:20251221T173000
DTSTAMP:20260421T213410
CREATED:20240223T134204Z
LAST-MODIFIED:20260331T081526Z
UID:10001857-1766313000-1766338200@www.museocanova.it
SUMMARY:Visite guidate spontanee / Domenica e festivi
DESCRIPTION:
URL:https://www.museocanova.it/calendario/visite-guidate-spontanee-domenica-e-festivi-4/2025-12-21/
CATEGORIES:Visite guidate
ATTACH;FMTTYPE=image/jpeg:https://www.museocanova.it/2022/wp-content/uploads/2022/09/museo_canova_possagno_visite_guidate_spontanee.jpg
END:VEVENT
BEGIN:VEVENT
DTSTART;TZID=Europe/Rome:20251226T110000
DTEND;TZID=Europe/Rome:20251226T160000
DTSTAMP:20260421T213410
CREATED:20221124T160510Z
LAST-MODIFIED:20251202T123349Z
UID:10001824-1766746800-1766764800@www.museocanova.it
SUMMARY:Natale al Museo - visite guidate
DESCRIPTION:
URL:https://www.museocanova.it/calendario/natale-al-museo-visite-guidate/2025-12-26/
CATEGORIES:Visite guidate
ATTACH;FMTTYPE=image/jpeg:https://www.museocanova.it/2022/wp-content/uploads/2022/11/Nataleinmuseo_eventi_articoli_header_mobile_thumbnail.jpg
END:VEVENT
BEGIN:VEVENT
DTSTART;TZID=Europe/Rome:20251227T103000
DTEND;TZID=Europe/Rome:20251227T163000
DTSTAMP:20260421T213410
CREATED:20250122T102813Z
LAST-MODIFIED:20260317T145657Z
UID:10001832-1766831400-1766853000@www.museocanova.it
SUMMARY:Visite guidate spontanee / sabato
DESCRIPTION:
URL:https://www.museocanova.it/calendario/visite-guidate-spontanee-sabato-4/2025-12-27/
CATEGORIES:Visite guidate
ATTACH;FMTTYPE=image/jpeg:https://www.museocanova.it/2022/wp-content/uploads/2022/09/museo_canova_visite_guidate_spontanee_possagno-1.jpg
END:VEVENT
BEGIN:VEVENT
DTSTART;TZID=Europe/Rome:20251227T163000
DTEND;TZID=Europe/Rome:20251227T173000
DTSTAMP:20260421T213410
CREATED:20250331T083706Z
LAST-MODIFIED:20260317T151828Z
UID:10001571-1766853000-1766856600@www.museocanova.it
SUMMARY:Visita guidata: Canova\, che mito!
DESCRIPTION:
URL:https://www.museocanova.it/calendario/visita-guidata-canova-che-mito/2025-12-27/
LOCATION:Museo Gypsotheca Antonio Canova
CATEGORIES:Visite guidate
ATTACH;FMTTYPE=image/jpeg:https://www.museocanova.it/2022/wp-content/uploads/2023/03/preview-8-marzo.jpg
END:VEVENT
BEGIN:VEVENT
DTSTART;TZID=Europe/Rome:20251228T103000
DTEND;TZID=Europe/Rome:20251228T173000
DTSTAMP:20260421T213410
CREATED:20240223T134204Z
LAST-MODIFIED:20260331T081526Z
UID:10001858-1766917800-1766943000@www.museocanova.it
SUMMARY:Visite guidate spontanee / Domenica e festivi
DESCRIPTION:
URL:https://www.museocanova.it/calendario/visite-guidate-spontanee-domenica-e-festivi-4/2025-12-28/
CATEGORIES:Visite guidate
ATTACH;FMTTYPE=image/jpeg:https://www.museocanova.it/2022/wp-content/uploads/2022/09/museo_canova_possagno_visite_guidate_spontanee.jpg
END:VEVENT
BEGIN:VEVENT
DTSTART;TZID=Europe/Rome:20251229T110000
DTEND;TZID=Europe/Rome:20251229T160000
DTSTAMP:20260421T213410
CREATED:20221124T160510Z
LAST-MODIFIED:20251202T123349Z
UID:10001825-1767006000-1767024000@www.museocanova.it
SUMMARY:Natale al Museo - visite guidate
DESCRIPTION:
URL:https://www.museocanova.it/calendario/natale-al-museo-visite-guidate/2025-12-29/
CATEGORIES:Visite guidate
ATTACH;FMTTYPE=image/jpeg:https://www.museocanova.it/2022/wp-content/uploads/2022/11/Nataleinmuseo_eventi_articoli_header_mobile_thumbnail.jpg
END:VEVENT
BEGIN:VEVENT
DTSTART;TZID=Europe/Rome:20251230T110000
DTEND;TZID=Europe/Rome:20251230T160000
DTSTAMP:20260421T213410
CREATED:20221124T160510Z
LAST-MODIFIED:20251202T123349Z
UID:10001826-1767092400-1767110400@www.museocanova.it
SUMMARY:Natale al Museo - visite guidate
DESCRIPTION:
URL:https://www.museocanova.it/calendario/natale-al-museo-visite-guidate/2025-12-30/
CATEGORIES:Visite guidate
ATTACH;FMTTYPE=image/jpeg:https://www.museocanova.it/2022/wp-content/uploads/2022/11/Nataleinmuseo_eventi_articoli_header_mobile_thumbnail.jpg
END:VEVENT
BEGIN:VEVENT
DTSTART;TZID=Europe/Rome:20251231T110000
DTEND;TZID=Europe/Rome:20251231T160000
DTSTAMP:20260421T213410
CREATED:20221124T160510Z
LAST-MODIFIED:20251202T123349Z
UID:10001827-1767178800-1767196800@www.museocanova.it
SUMMARY:Natale al Museo - visite guidate
DESCRIPTION:
URL:https://www.museocanova.it/calendario/natale-al-museo-visite-guidate/2025-12-31/
CATEGORIES:Visite guidate
ATTACH;FMTTYPE=image/jpeg:https://www.museocanova.it/2022/wp-content/uploads/2022/11/Nataleinmuseo_eventi_articoli_header_mobile_thumbnail.jpg
END:VEVENT
BEGIN:VEVENT
DTSTART;TZID=Europe/Rome:20260102T110000
DTEND;TZID=Europe/Rome:20260102T160000
DTSTAMP:20260421T213410
CREATED:20221124T160510Z
LAST-MODIFIED:20251202T123349Z
UID:10001828-1767351600-1767369600@www.museocanova.it
SUMMARY:Natale al Museo - visite guidate
DESCRIPTION:
URL:https://www.museocanova.it/calendario/natale-al-museo-visite-guidate/2026-01-02/
CATEGORIES:Visite guidate
ATTACH;FMTTYPE=image/jpeg:https://www.museocanova.it/2022/wp-content/uploads/2022/11/Nataleinmuseo_eventi_articoli_header_mobile_thumbnail.jpg
END:VEVENT
BEGIN:VEVENT
DTSTART;TZID=Europe/Rome:20260103T103000
DTEND;TZID=Europe/Rome:20260103T163000
DTSTAMP:20260421T213410
CREATED:20250122T102813Z
LAST-MODIFIED:20260317T145657Z
UID:10001833-1767436200-1767457800@www.museocanova.it
SUMMARY:Visite guidate spontanee / sabato
DESCRIPTION:
URL:https://www.museocanova.it/calendario/visite-guidate-spontanee-sabato-4/2026-01-03/
CATEGORIES:Visite guidate
ATTACH;FMTTYPE=image/jpeg:https://www.museocanova.it/2022/wp-content/uploads/2022/09/museo_canova_visite_guidate_spontanee_possagno-1.jpg
END:VEVENT
BEGIN:VEVENT
DTSTART;TZID=Europe/Rome:20260103T163000
DTEND;TZID=Europe/Rome:20260103T173000
DTSTAMP:20260421T213410
CREATED:20250122T142030Z
LAST-MODIFIED:20251222T103312Z
UID:10001877-1767457800-1767461400@www.museocanova.it
SUMMARY:Visite guidate con interprete LIS
DESCRIPTION:
URL:https://www.museocanova.it/calendario/visite-guidate-in-lis-2-3/2026-01-03/
CATEGORIES:Visite guidate
ATTACH;FMTTYPE=image/png:https://www.museocanova.it/2022/wp-content/uploads/2023/05/boxed_visite-LIS.png
END:VEVENT
BEGIN:VEVENT
DTSTART;TZID=Europe/Rome:20260104T103000
DTEND;TZID=Europe/Rome:20260104T173000
DTSTAMP:20260421T213410
CREATED:20240223T134204Z
LAST-MODIFIED:20260331T081526Z
UID:10001859-1767522600-1767547800@www.museocanova.it
SUMMARY:Visite guidate spontanee / Domenica e festivi
DESCRIPTION:
URL:https://www.museocanova.it/calendario/visite-guidate-spontanee-domenica-e-festivi-4/2026-01-04/
CATEGORIES:Visite guidate
ATTACH;FMTTYPE=image/jpeg:https://www.museocanova.it/2022/wp-content/uploads/2022/09/museo_canova_possagno_visite_guidate_spontanee.jpg
END:VEVENT
BEGIN:VEVENT
DTSTART;TZID=Europe/Rome:20260104T160000
DTEND;TZID=Europe/Rome:20260104T170000
DTSTAMP:20260421T213410
CREATED:20241216T092713Z
LAST-MODIFIED:20260331T081818Z
UID:10001871-1767542400-1767546000@www.museocanova.it
SUMMARY:Visite guidate per famiglie
DESCRIPTION:https://www.museocanova.it/calendario/categoria/visite-guidate/
URL:https://www.museocanova.it/calendario/visite-famiglie/2026-01-04/
CATEGORIES:Visite guidate
ATTACH;FMTTYPE=image/jpeg:https://www.museocanova.it/2022/wp-content/uploads/2022/09/visite_guidate_famiglie_museo_gypsotheca_canova_thumb.jpg
END:VEVENT
BEGIN:VEVENT
DTSTART;TZID=Europe/Rome:20260105T103000
DTEND;TZID=Europe/Rome:20260105T173000
DTSTAMP:20260421T213410
CREATED:20240223T134204Z
LAST-MODIFIED:20260331T081526Z
UID:10001860-1767609000-1767634200@www.museocanova.it
SUMMARY:Visite guidate spontanee / Domenica e festivi
DESCRIPTION:
URL:https://www.museocanova.it/calendario/visite-guidate-spontanee-domenica-e-festivi-4/2026-01-05/
CATEGORIES:Visite guidate
ATTACH;FMTTYPE=image/jpeg:https://www.museocanova.it/2022/wp-content/uploads/2022/09/museo_canova_possagno_visite_guidate_spontanee.jpg
END:VEVENT
BEGIN:VEVENT
DTSTART;TZID=Europe/Rome:20260110T103000
DTEND;TZID=Europe/Rome:20260110T163000
DTSTAMP:20260421T213410
CREATED:20250122T102813Z
LAST-MODIFIED:20260317T145657Z
UID:10001834-1768041000-1768062600@www.museocanova.it
SUMMARY:Visite guidate spontanee / sabato
DESCRIPTION:
URL:https://www.museocanova.it/calendario/visite-guidate-spontanee-sabato-4/2026-01-10/
CATEGORIES:Visite guidate
ATTACH;FMTTYPE=image/jpeg:https://www.museocanova.it/2022/wp-content/uploads/2022/09/museo_canova_visite_guidate_spontanee_possagno-1.jpg
END:VEVENT
BEGIN:VEVENT
DTSTART;TZID=Europe/Rome:20260111T103000
DTEND;TZID=Europe/Rome:20260111T173000
DTSTAMP:20260421T213410
CREATED:20240223T134204Z
LAST-MODIFIED:20260331T081526Z
UID:10001861-1768127400-1768152600@www.museocanova.it
SUMMARY:Visite guidate spontanee / Domenica e festivi
DESCRIPTION:
URL:https://www.museocanova.it/calendario/visite-guidate-spontanee-domenica-e-festivi-4/2026-01-11/
CATEGORIES:Visite guidate
ATTACH;FMTTYPE=image/jpeg:https://www.museocanova.it/2022/wp-content/uploads/2022/09/museo_canova_possagno_visite_guidate_spontanee.jpg
END:VEVENT
BEGIN:VEVENT
DTSTART;TZID=Europe/Rome:20260111T160000
DTEND;TZID=Europe/Rome:20260111T170000
DTSTAMP:20260421T213410
CREATED:20241216T092713Z
LAST-MODIFIED:20260331T081818Z
UID:10001872-1768147200-1768150800@www.museocanova.it
SUMMARY:Visite guidate per famiglie
DESCRIPTION:https://www.museocanova.it/calendario/categoria/visite-guidate/
URL:https://www.museocanova.it/calendario/visite-famiglie/2026-01-11/
CATEGORIES:Visite guidate
ATTACH;FMTTYPE=image/jpeg:https://www.museocanova.it/2022/wp-content/uploads/2022/09/visite_guidate_famiglie_museo_gypsotheca_canova_thumb.jpg
END:VEVENT
BEGIN:VEVENT
DTSTART;TZID=Europe/Rome:20260117T103000
DTEND;TZID=Europe/Rome:20260117T163000
DTSTAMP:20260421T213410
CREATED:20250122T102813Z
LAST-MODIFIED:20260317T145657Z
UID:10001835-1768645800-1768667400@www.museocanova.it
SUMMARY:Visite guidate spontanee / sabato
DESCRIPTION:
URL:https://www.museocanova.it/calendario/visite-guidate-spontanee-sabato-4/2026-01-17/
CATEGORIES:Visite guidate
ATTACH;FMTTYPE=image/jpeg:https://www.museocanova.it/2022/wp-content/uploads/2022/09/museo_canova_visite_guidate_spontanee_possagno-1.jpg
END:VEVENT
BEGIN:VEVENT
DTSTART;TZID=Europe/Rome:20260117T123000
DTEND;TZID=Europe/Rome:20260117T133000
DTSTAMP:20260421T213410
CREATED:20250723T081229Z
LAST-MODIFIED:20260317T150623Z
UID:10001895-1768653000-1768656600@www.museocanova.it
SUMMARY:Visite guidate in lingua inglese
DESCRIPTION:
URL:https://www.museocanova.it/calendario/visite-guidate-in-lingua-inglese-2/2026-01-17/
CATEGORIES:Visite guidate
ATTACH;FMTTYPE=image/jpeg:https://www.museocanova.it/2022/wp-content/uploads/2022/09/museo_canova_visite_guidate_spontanee_possagno_thumb.jpg
END:VEVENT
BEGIN:VEVENT
DTSTART;TZID=Europe/Rome:20260117T160000
DTEND;TZID=Europe/Rome:20260117T170000
DTSTAMP:20260421T213410
CREATED:20220914T143557Z
LAST-MODIFIED:20260316T144238Z
UID:10001880-1768665600-1768669200@www.museocanova.it
SUMMARY:Laboratori creativi
DESCRIPTION:
URL:https://www.museocanova.it/calendario/laboratori-creativi/2026-01-17/
CATEGORIES:Appuntamenti
ATTACH;FMTTYPE=image/jpeg:https://www.museocanova.it/2022/wp-content/uploads/2022/09/Museo_Gypsotheca_Canova_Laboratori_per_bambini_thumb.jpg
END:VEVENT
END:VCALENDAR