BEGIN:VCALENDAR
VERSION:2.0
PRODID:-//Museo Gypsotheca Antonio Canova - ECPv6.6.4.2//NONSGML v1.0//EN
CALSCALE:GREGORIAN
METHOD:PUBLISH
X-WR-CALNAME:Museo Gypsotheca Antonio Canova
X-ORIGINAL-URL:https://www.museocanova.it
X-WR-CALDESC:Events for Museo Gypsotheca Antonio Canova
REFRESH-INTERVAL;VALUE=DURATION:PT1H
X-Robots-Tag:noindex
X-PUBLISHED-TTL:PT1H
BEGIN:VTIMEZONE
TZID:Europe/Rome
BEGIN:DAYLIGHT
TZOFFSETFROM:+0100
TZOFFSETTO:+0200
TZNAME:CEST
DTSTART:20250330T010000
END:DAYLIGHT
BEGIN:STANDARD
TZOFFSETFROM:+0200
TZOFFSETTO:+0100
TZNAME:CET
DTSTART:20251026T010000
END:STANDARD
BEGIN:DAYLIGHT
TZOFFSETFROM:+0100
TZOFFSETTO:+0200
TZNAME:CEST
DTSTART:20260329T010000
END:DAYLIGHT
BEGIN:STANDARD
TZOFFSETFROM:+0200
TZOFFSETTO:+0100
TZNAME:CET
DTSTART:20261025T010000
END:STANDARD
END:VTIMEZONE
BEGIN:VEVENT
DTSTART;TZID=Europe/Rome:20250517T160000
DTEND;TZID=Europe/Rome:20250517T170000
DTSTAMP:20260421T052525
CREATED:20220914T143557Z
LAST-MODIFIED:20260316T144238Z
UID:10001489-1747497600-1747501200@www.museocanova.it
SUMMARY:Laboratori creativi
DESCRIPTION:
URL:https://www.museocanova.it/calendario/laboratori-creativi/2025-05-17/
CATEGORIES:Appuntamenti
ATTACH;FMTTYPE=image/jpeg:https://www.museocanova.it/2022/wp-content/uploads/2022/09/Museo_Gypsotheca_Canova_Laboratori_per_bambini_thumb.jpg
END:VEVENT
BEGIN:VEVENT
DTSTART;TZID=Europe/Rome:20250517T193000
DTEND;TZID=Europe/Rome:20250517T230000
DTSTAMP:20260421T052525
CREATED:20240507T163344Z
LAST-MODIFIED:20250507T111013Z
UID:10001157-1747510200-1747522800@www.museocanova.it
SUMMARY:Notte dei Musei. Note di Jazz
DESCRIPTION:
URL:https://www.museocanova.it/calendario/notte-dei-musei/
CATEGORIES:Appuntamenti,Visite guidate
ATTACH;FMTTYPE=image/png:https://www.museocanova.it/2022/wp-content/uploads/2023/04/boxed_Notte-dei-Musei.png
END:VEVENT
BEGIN:VEVENT
DTSTART;TZID=Europe/Rome:20250524T213000
DTEND;TZID=Europe/Rome:20250524T223000
DTSTAMP:20260421T052525
CREATED:20250513T122759Z
LAST-MODIFIED:20250513T123127Z
UID:10001619-1748122200-1748125800@www.museocanova.it
SUMMARY:“Semplicemente” Frida In Tour – con Mark Glentworth
DESCRIPTION:
URL:https://www.museocanova.it/calendario/frida-in-tour/
CATEGORIES:Appuntamenti,Visite guidate
ATTACH;FMTTYPE=image/jpeg:https://www.museocanova.it/2022/wp-content/uploads/2025/05/thumb-6insuperabile.jpg
END:VEVENT
BEGIN:VEVENT
DTSTART;TZID=Europe/Rome:20250531T163000
DTEND;TZID=Europe/Rome:20250531T173000
DTSTAMP:20260421T052525
CREATED:20250520T193635Z
LAST-MODIFIED:20250520T193759Z
UID:10001631-1748709000-1748712600@www.museocanova.it
SUMMARY:Visite guidate alla mostra "Canova e la nascita della scultura moderna. Il Teseo sul Minotauro"
DESCRIPTION:
URL:https://www.museocanova.it/calendario/visita-guidata-teseo/2025-05-31/
CATEGORIES:Visite guidate
ATTACH;FMTTYPE=image/jpeg:https://www.museocanova.it/2022/wp-content/uploads/2025/05/thumb-Teseo.jpg
END:VEVENT
BEGIN:VEVENT
DTSTART;TZID=Europe/Rome:20250602T120000
DTEND;TZID=Europe/Rome:20250602T130000
DTSTAMP:20260421T052525
CREATED:20250521T092816Z
LAST-MODIFIED:20250521T092816Z
UID:10001633-1748865600-1748869200@www.museocanova.it
SUMMARY:Buon compleanno Carlo Scarpa! A lezione con il “professore” nella Gypsotheca
DESCRIPTION:
URL:https://www.museocanova.it/calendario/visita-guidata-compleanno-scarpa/
CATEGORIES:Visite guidate
ATTACH;FMTTYPE=image/png:https://www.museocanova.it/2022/wp-content/uploads/2024/02/boxed_Scarpa.png
END:VEVENT
BEGIN:VEVENT
DTSTART;TZID=Europe/Rome:20250607T163000
DTEND;TZID=Europe/Rome:20250607T173000
DTSTAMP:20260421T052525
CREATED:20250520T193635Z
LAST-MODIFIED:20250520T193759Z
UID:10001632-1749313800-1749317400@www.museocanova.it
SUMMARY:Visite guidate alla mostra "Canova e la nascita della scultura moderna. Il Teseo sul Minotauro"
DESCRIPTION:
URL:https://www.museocanova.it/calendario/visita-guidata-teseo/2025-06-07/
CATEGORIES:Visite guidate
ATTACH;FMTTYPE=image/jpeg:https://www.museocanova.it/2022/wp-content/uploads/2025/05/thumb-Teseo.jpg
END:VEVENT
BEGIN:VEVENT
DTSTART;TZID=Europe/Rome:20250607T193000
DTEND;TZID=Europe/Rome:20250607T233000
DTSTAMP:20260421T052525
CREATED:20221228T104637Z
LAST-MODIFIED:20250605T092453Z
UID:10001614-1749324600-1749339000@www.museocanova.it
SUMMARY:Sabato sera alla Gypsotheca
DESCRIPTION:
URL:https://www.museocanova.it/calendario/sabato-sera-alla-gypsotheca/2025-06-07/
CATEGORIES:Appuntamenti
ATTACH;FMTTYPE=image/jpeg:https://www.museocanova.it/2022/wp-content/uploads/2022/09/Museo_Canova_Possagno_Alla_Luce_Psiche_Visita_Notturna.jpg
END:VEVENT
BEGIN:VEVENT
DTSTART;TZID=Europe/Rome:20250615T080000
DTEND;TZID=Europe/Rome:20250615T170000
DTSTAMP:20260421T052525
CREATED:20250630T090735Z
LAST-MODIFIED:20250930T115138Z
UID:10001669-1749974400-1750006800@www.museocanova.it
SUMMARY:Visita guidata al Museo e alla mostra Carlo Scarpa e le arti alla Biennale. Opere e vetri dalla Collezione Gemin
DESCRIPTION:
URL:https://www.museocanova.it/calendario/visita-museo-mostra-scarpa-5/2025-06-15/
CATEGORIES:Visite guidate
ATTACH;FMTTYPE=image/jpeg:https://www.museocanova.it/2022/wp-content/uploads/2025/05/thumb-mostra-Scarpa-Gemin-1.jpg
END:VEVENT
BEGIN:VEVENT
DTSTART;TZID=Europe/Rome:20250621T160000
DTEND;TZID=Europe/Rome:20250621T170000
DTSTAMP:20260421T052525
CREATED:20220914T143557Z
LAST-MODIFIED:20260316T144238Z
UID:10001490-1750521600-1750525200@www.museocanova.it
SUMMARY:Laboratori creativi
DESCRIPTION:
URL:https://www.museocanova.it/calendario/laboratori-creativi/2025-06-21/
CATEGORIES:Appuntamenti
ATTACH;FMTTYPE=image/jpeg:https://www.museocanova.it/2022/wp-content/uploads/2022/09/Museo_Gypsotheca_Canova_Laboratori_per_bambini_thumb.jpg
END:VEVENT
BEGIN:VEVENT
DTSTART;TZID=Europe/Rome:20250622T000000
DTEND;TZID=Europe/Rome:20260602T000000
DTSTAMP:20260421T052525
CREATED:20250512T123448Z
LAST-MODIFIED:20260407T124835Z
UID:10001618-1750550400-1780358400@www.museocanova.it
SUMMARY:CARLO SCARPA E LE ARTI ALLA BIENNALE. Opere e vetri dalla Collezione Gemin
DESCRIPTION:
URL:https://www.museocanova.it/calendario/carlo-scarpa-e-le-arti-alla-biennale/
CATEGORIES:Mostre
ATTACH;FMTTYPE=image/jpeg:https://www.museocanova.it/2022/wp-content/uploads/2025/05/thumb-mostra-Scarpa-Gemin-1.jpg
END:VEVENT
BEGIN:VEVENT
DTSTART;TZID=Europe/Rome:20250627T210000
DTEND;TZID=Europe/Rome:20250627T220000
DTSTAMP:20260421T052525
CREATED:20250219T120115Z
LAST-MODIFIED:20250624T065548Z
UID:10001482-1751058000-1751061600@www.museocanova.it
SUMMARY:Rassegna Mythos – Classici al Museo
DESCRIPTION:
URL:https://www.museocanova.it/calendario/rassegna-mythos-classici-al-museo/
CATEGORIES:Appuntamenti
ATTACH;FMTTYPE=image/jpeg:https://www.museocanova.it/2022/wp-content/uploads/2025/02/thumb-Mythos_Ettore.jpg
END:VEVENT
BEGIN:VEVENT
DTSTART;TZID=Europe/Rome:20250628T103000
DTEND;TZID=Europe/Rome:20250628T163000
DTSTAMP:20260421T052525
CREATED:20250122T102813Z
LAST-MODIFIED:20260317T145657Z
UID:10001585-1751106600-1751128200@www.museocanova.it
SUMMARY:Visite guidate spontanee / sabato
DESCRIPTION:
URL:https://www.museocanova.it/calendario/visite-guidate-spontanee-sabato-4/2025-06-28/
CATEGORIES:Visite guidate
ATTACH;FMTTYPE=image/jpeg:https://www.museocanova.it/2022/wp-content/uploads/2022/09/museo_canova_visite_guidate_spontanee_possagno-1.jpg
END:VEVENT
BEGIN:VEVENT
DTSTART;TZID=Europe/Rome:20250705T103000
DTEND;TZID=Europe/Rome:20250705T163000
DTSTAMP:20260421T052525
CREATED:20250122T102813Z
LAST-MODIFIED:20260317T145657Z
UID:10001634-1751711400-1751733000@www.museocanova.it
SUMMARY:Visite guidate spontanee / sabato
DESCRIPTION:
URL:https://www.museocanova.it/calendario/visite-guidate-spontanee-sabato-4/2025-07-05/
CATEGORIES:Visite guidate
ATTACH;FMTTYPE=image/jpeg:https://www.museocanova.it/2022/wp-content/uploads/2022/09/museo_canova_visite_guidate_spontanee_possagno-1.jpg
END:VEVENT
BEGIN:VEVENT
DTSTART;TZID=Europe/Rome:20250705T193000
DTEND;TZID=Europe/Rome:20250705T233000
DTSTAMP:20260421T052525
CREATED:20221228T104637Z
LAST-MODIFIED:20250605T092453Z
UID:10001615-1751743800-1751758200@www.museocanova.it
SUMMARY:Sabato sera alla Gypsotheca
DESCRIPTION:
URL:https://www.museocanova.it/calendario/sabato-sera-alla-gypsotheca/2025-07-05/
CATEGORIES:Appuntamenti
ATTACH;FMTTYPE=image/jpeg:https://www.museocanova.it/2022/wp-content/uploads/2022/09/Museo_Canova_Possagno_Alla_Luce_Psiche_Visita_Notturna.jpg
END:VEVENT
BEGIN:VEVENT
DTSTART;TZID=Europe/Rome:20250706T163000
DTEND;TZID=Europe/Rome:20250706T180000
DTSTAMP:20260421T052525
CREATED:20250630T090735Z
LAST-MODIFIED:20250930T115138Z
UID:10001670-1751819400-1751824800@www.museocanova.it
SUMMARY:Visita guidata al Museo e alla mostra Carlo Scarpa e le arti alla Biennale. Opere e vetri dalla Collezione Gemin
DESCRIPTION:
URL:https://www.museocanova.it/calendario/visita-museo-mostra-scarpa-5/2025-07-06/
CATEGORIES:Visite guidate
ATTACH;FMTTYPE=image/jpeg:https://www.museocanova.it/2022/wp-content/uploads/2025/05/thumb-mostra-Scarpa-Gemin-1.jpg
END:VEVENT
BEGIN:VEVENT
DTSTART;TZID=Europe/Rome:20250712T103000
DTEND;TZID=Europe/Rome:20250712T163000
DTSTAMP:20260421T052525
CREATED:20250122T102813Z
LAST-MODIFIED:20260317T145657Z
UID:10001635-1752316200-1752337800@www.museocanova.it
SUMMARY:Visite guidate spontanee / sabato
DESCRIPTION:
URL:https://www.museocanova.it/calendario/visite-guidate-spontanee-sabato-4/2025-07-12/
CATEGORIES:Visite guidate
ATTACH;FMTTYPE=image/jpeg:https://www.museocanova.it/2022/wp-content/uploads/2022/09/museo_canova_visite_guidate_spontanee_possagno-1.jpg
END:VEVENT
BEGIN:VEVENT
DTSTART;TZID=Europe/Rome:20250713T163000
DTEND;TZID=Europe/Rome:20250713T180000
DTSTAMP:20260421T052525
CREATED:20250630T090735Z
LAST-MODIFIED:20250930T115138Z
UID:10001671-1752424200-1752429600@www.museocanova.it
SUMMARY:Visita guidata al Museo e alla mostra Carlo Scarpa e le arti alla Biennale. Opere e vetri dalla Collezione Gemin
DESCRIPTION:
URL:https://www.museocanova.it/calendario/visita-museo-mostra-scarpa-5/2025-07-13/
CATEGORIES:Visite guidate
ATTACH;FMTTYPE=image/jpeg:https://www.museocanova.it/2022/wp-content/uploads/2025/05/thumb-mostra-Scarpa-Gemin-1.jpg
END:VEVENT
BEGIN:VEVENT
DTSTART;TZID=Europe/Rome:20250719T103000
DTEND;TZID=Europe/Rome:20250719T163000
DTSTAMP:20260421T052525
CREATED:20250122T102813Z
LAST-MODIFIED:20260317T145657Z
UID:10001636-1752921000-1752942600@www.museocanova.it
SUMMARY:Visite guidate spontanee / sabato
DESCRIPTION:
URL:https://www.museocanova.it/calendario/visite-guidate-spontanee-sabato-4/2025-07-19/
CATEGORIES:Visite guidate
ATTACH;FMTTYPE=image/jpeg:https://www.museocanova.it/2022/wp-content/uploads/2022/09/museo_canova_visite_guidate_spontanee_possagno-1.jpg
END:VEVENT
BEGIN:VEVENT
DTSTART;TZID=Europe/Rome:20250720T163000
DTEND;TZID=Europe/Rome:20250720T180000
DTSTAMP:20260421T052525
CREATED:20250630T090735Z
LAST-MODIFIED:20250930T115138Z
UID:10001672-1753029000-1753034400@www.museocanova.it
SUMMARY:Visita guidata al Museo e alla mostra Carlo Scarpa e le arti alla Biennale. Opere e vetri dalla Collezione Gemin
DESCRIPTION:
URL:https://www.museocanova.it/calendario/visita-museo-mostra-scarpa-5/2025-07-20/
CATEGORIES:Visite guidate
ATTACH;FMTTYPE=image/jpeg:https://www.museocanova.it/2022/wp-content/uploads/2025/05/thumb-mostra-Scarpa-Gemin-1.jpg
END:VEVENT
BEGIN:VEVENT
DTSTART;TZID=Europe/Rome:20250726T103000
DTEND;TZID=Europe/Rome:20250726T163000
DTSTAMP:20260421T052525
CREATED:20250122T102813Z
LAST-MODIFIED:20260317T145657Z
UID:10001637-1753525800-1753547400@www.museocanova.it
SUMMARY:Visite guidate spontanee / sabato
DESCRIPTION:
URL:https://www.museocanova.it/calendario/visite-guidate-spontanee-sabato-4/2025-07-26/
CATEGORIES:Visite guidate
ATTACH;FMTTYPE=image/jpeg:https://www.museocanova.it/2022/wp-content/uploads/2022/09/museo_canova_visite_guidate_spontanee_possagno-1.jpg
END:VEVENT
BEGIN:VEVENT
DTSTART;TZID=Europe/Rome:20250727T163000
DTEND;TZID=Europe/Rome:20250727T180000
DTSTAMP:20260421T052525
CREATED:20250630T090735Z
LAST-MODIFIED:20250930T115138Z
UID:10001673-1753633800-1753639200@www.museocanova.it
SUMMARY:Visita guidata al Museo e alla mostra Carlo Scarpa e le arti alla Biennale. Opere e vetri dalla Collezione Gemin
DESCRIPTION:
URL:https://www.museocanova.it/calendario/visita-museo-mostra-scarpa-5/2025-07-27/
CATEGORIES:Visite guidate
ATTACH;FMTTYPE=image/jpeg:https://www.museocanova.it/2022/wp-content/uploads/2025/05/thumb-mostra-Scarpa-Gemin-1.jpg
END:VEVENT
BEGIN:VEVENT
DTSTART;TZID=Europe/Rome:20250802T103000
DTEND;TZID=Europe/Rome:20250802T163000
DTSTAMP:20260421T052525
CREATED:20250122T102813Z
LAST-MODIFIED:20260317T145657Z
UID:10001638-1754130600-1754152200@www.museocanova.it
SUMMARY:Visite guidate spontanee / sabato
DESCRIPTION:
URL:https://www.museocanova.it/calendario/visite-guidate-spontanee-sabato-4/2025-08-02/
CATEGORIES:Visite guidate
ATTACH;FMTTYPE=image/jpeg:https://www.museocanova.it/2022/wp-content/uploads/2022/09/museo_canova_visite_guidate_spontanee_possagno-1.jpg
END:VEVENT
BEGIN:VEVENT
DTSTART;TZID=Europe/Rome:20250802T123000
DTEND;TZID=Europe/Rome:20250802T133000
DTSTAMP:20260421T052525
CREATED:20250723T081229Z
LAST-MODIFIED:20260317T150623Z
UID:10001706-1754137800-1754141400@www.museocanova.it
SUMMARY:Visite guidate in lingua inglese
DESCRIPTION:
URL:https://www.museocanova.it/calendario/visite-guidate-in-lingua-inglese-2/2025-08-02/
CATEGORIES:Visite guidate
ATTACH;FMTTYPE=image/jpeg:https://www.museocanova.it/2022/wp-content/uploads/2022/09/museo_canova_visite_guidate_spontanee_possagno_thumb.jpg
END:VEVENT
BEGIN:VEVENT
DTSTART;TZID=Europe/Rome:20250802T193000
DTEND;TZID=Europe/Rome:20250802T233000
DTSTAMP:20260421T052525
CREATED:20221228T104637Z
LAST-MODIFIED:20250605T092453Z
UID:10001616-1754163000-1754177400@www.museocanova.it
SUMMARY:Sabato sera alla Gypsotheca
DESCRIPTION:
URL:https://www.museocanova.it/calendario/sabato-sera-alla-gypsotheca/2025-08-02/
CATEGORIES:Appuntamenti
ATTACH;FMTTYPE=image/jpeg:https://www.museocanova.it/2022/wp-content/uploads/2022/09/Museo_Canova_Possagno_Alla_Luce_Psiche_Visita_Notturna.jpg
END:VEVENT
BEGIN:VEVENT
DTSTART;TZID=Europe/Rome:20250803T163000
DTEND;TZID=Europe/Rome:20250803T180000
DTSTAMP:20260421T052525
CREATED:20250630T090735Z
LAST-MODIFIED:20250930T115138Z
UID:10001674-1754238600-1754244000@www.museocanova.it
SUMMARY:Visita guidata al Museo e alla mostra Carlo Scarpa e le arti alla Biennale. Opere e vetri dalla Collezione Gemin
DESCRIPTION:
URL:https://www.museocanova.it/calendario/visita-museo-mostra-scarpa-5/2025-08-03/
CATEGORIES:Visite guidate
ATTACH;FMTTYPE=image/jpeg:https://www.museocanova.it/2022/wp-content/uploads/2025/05/thumb-mostra-Scarpa-Gemin-1.jpg
END:VEVENT
BEGIN:VEVENT
DTSTART;TZID=Europe/Rome:20250809T103000
DTEND;TZID=Europe/Rome:20250809T163000
DTSTAMP:20260421T052525
CREATED:20250122T102813Z
LAST-MODIFIED:20260317T145657Z
UID:10001639-1754735400-1754757000@www.museocanova.it
SUMMARY:Visite guidate spontanee / sabato
DESCRIPTION:
URL:https://www.museocanova.it/calendario/visite-guidate-spontanee-sabato-4/2025-08-09/
CATEGORIES:Visite guidate
ATTACH;FMTTYPE=image/jpeg:https://www.museocanova.it/2022/wp-content/uploads/2022/09/museo_canova_visite_guidate_spontanee_possagno-1.jpg
END:VEVENT
BEGIN:VEVENT
DTSTART;TZID=Europe/Rome:20250809T123000
DTEND;TZID=Europe/Rome:20250809T133000
DTSTAMP:20260421T052525
CREATED:20250723T081229Z
LAST-MODIFIED:20260317T150623Z
UID:10001707-1754742600-1754746200@www.museocanova.it
SUMMARY:Visite guidate in lingua inglese
DESCRIPTION:
URL:https://www.museocanova.it/calendario/visite-guidate-in-lingua-inglese-2/2025-08-09/
CATEGORIES:Visite guidate
ATTACH;FMTTYPE=image/jpeg:https://www.museocanova.it/2022/wp-content/uploads/2022/09/museo_canova_visite_guidate_spontanee_possagno_thumb.jpg
END:VEVENT
BEGIN:VEVENT
DTSTART;TZID=Europe/Rome:20250810T163000
DTEND;TZID=Europe/Rome:20250810T180000
DTSTAMP:20260421T052525
CREATED:20250630T090735Z
LAST-MODIFIED:20250930T115138Z
UID:10001675-1754843400-1754848800@www.museocanova.it
SUMMARY:Visita guidata al Museo e alla mostra Carlo Scarpa e le arti alla Biennale. Opere e vetri dalla Collezione Gemin
DESCRIPTION:
URL:https://www.museocanova.it/calendario/visita-museo-mostra-scarpa-5/2025-08-10/
CATEGORIES:Visite guidate
ATTACH;FMTTYPE=image/jpeg:https://www.museocanova.it/2022/wp-content/uploads/2025/05/thumb-mostra-Scarpa-Gemin-1.jpg
END:VEVENT
BEGIN:VEVENT
DTSTART;TZID=Europe/Rome:20250812T110000
DTEND;TZID=Europe/Rome:20250812T170000
DTSTAMP:20260421T052525
CREATED:20240710T162241Z
LAST-MODIFIED:20250730T070125Z
UID:10001684-1754996400-1755018000@www.museocanova.it
SUMMARY:Agosto al Museo - visite guidate
DESCRIPTION:
URL:https://www.museocanova.it/calendario/agosto-al-museo-2/2025-08-12/
CATEGORIES:Visite guidate
ATTACH;FMTTYPE=image/jpeg:https://www.museocanova.it/2022/wp-content/uploads/2022/12/Innamoratipsiche_mobile.jpg
END:VEVENT
BEGIN:VEVENT
DTSTART;TZID=Europe/Rome:20250813T110000
DTEND;TZID=Europe/Rome:20250813T170000
DTSTAMP:20260421T052525
CREATED:20240710T162241Z
LAST-MODIFIED:20250730T070125Z
UID:10001685-1755082800-1755104400@www.museocanova.it
SUMMARY:Agosto al Museo - visite guidate
DESCRIPTION:
URL:https://www.museocanova.it/calendario/agosto-al-museo-2/2025-08-13/
CATEGORIES:Visite guidate
ATTACH;FMTTYPE=image/jpeg:https://www.museocanova.it/2022/wp-content/uploads/2022/12/Innamoratipsiche_mobile.jpg
END:VEVENT
END:VCALENDAR