BEGIN:VCALENDAR
VERSION:2.0
PRODID:-//Museo Gypsotheca Antonio Canova - ECPv6.6.4.2//NONSGML v1.0//EN
CALSCALE:GREGORIAN
METHOD:PUBLISH
X-WR-CALNAME:Museo Gypsotheca Antonio Canova
X-ORIGINAL-URL:https://www.museocanova.it
X-WR-CALDESC:Events for Museo Gypsotheca Antonio Canova
REFRESH-INTERVAL;VALUE=DURATION:PT1H
X-Robots-Tag:noindex
X-PUBLISHED-TTL:PT1H
BEGIN:VTIMEZONE
TZID:Europe/Rome
BEGIN:DAYLIGHT
TZOFFSETFROM:+0100
TZOFFSETTO:+0200
TZNAME:CEST
DTSTART:20250330T010000
END:DAYLIGHT
BEGIN:STANDARD
TZOFFSETFROM:+0200
TZOFFSETTO:+0100
TZNAME:CET
DTSTART:20251026T010000
END:STANDARD
BEGIN:DAYLIGHT
TZOFFSETFROM:+0100
TZOFFSETTO:+0200
TZNAME:CEST
DTSTART:20260329T010000
END:DAYLIGHT
BEGIN:STANDARD
TZOFFSETFROM:+0200
TZOFFSETTO:+0100
TZNAME:CET
DTSTART:20261025T010000
END:STANDARD
END:VTIMEZONE
BEGIN:VEVENT
DTSTART;TZID=Europe/Rome:20250622T000000
DTEND;TZID=Europe/Rome:20260602T000000
DTSTAMP:20260421T080152
CREATED:20250512T123448Z
LAST-MODIFIED:20260407T124835Z
UID:10001618-1750550400-1780358400@www.museocanova.it
SUMMARY:CARLO SCARPA E LE ARTI ALLA BIENNALE. Opere e vetri dalla Collezione Gemin
DESCRIPTION:
URL:https://www.museocanova.it/calendario/carlo-scarpa-e-le-arti-alla-biennale/
CATEGORIES:Mostre
ATTACH;FMTTYPE=image/jpeg:https://www.museocanova.it/2022/wp-content/uploads/2025/05/thumb-mostra-Scarpa-Gemin-1.jpg
END:VEVENT
BEGIN:VEVENT
DTSTART;TZID=Europe/Rome:20251004T103000
DTEND;TZID=Europe/Rome:20251004T163000
DTSTAMP:20260421T080152
CREATED:20250122T102813Z
LAST-MODIFIED:20260317T145657Z
UID:10001794-1759573800-1759595400@www.museocanova.it
SUMMARY:Visite guidate spontanee / sabato
DESCRIPTION:
URL:https://www.museocanova.it/calendario/visite-guidate-spontanee-sabato-4/2025-10-04/
CATEGORIES:Visite guidate
ATTACH;FMTTYPE=image/jpeg:https://www.museocanova.it/2022/wp-content/uploads/2022/09/museo_canova_visite_guidate_spontanee_possagno-1.jpg
END:VEVENT
BEGIN:VEVENT
DTSTART;TZID=Europe/Rome:20251004T123000
DTEND;TZID=Europe/Rome:20251004T133000
DTSTAMP:20260421T080152
CREATED:20250723T081229Z
LAST-MODIFIED:20260317T150623Z
UID:10001811-1759581000-1759584600@www.museocanova.it
SUMMARY:Visite guidate in lingua inglese
DESCRIPTION:
URL:https://www.museocanova.it/calendario/visite-guidate-in-lingua-inglese-2/2025-10-04/
CATEGORIES:Visite guidate
ATTACH;FMTTYPE=image/jpeg:https://www.museocanova.it/2022/wp-content/uploads/2022/09/museo_canova_visite_guidate_spontanee_possagno_thumb.jpg
END:VEVENT
BEGIN:VEVENT
DTSTART;TZID=Europe/Rome:20251004T160000
DTEND;TZID=Europe/Rome:20251004T170000
DTSTAMP:20260421T080152
CREATED:20250926T101216Z
LAST-MODIFIED:20250930T194046Z
UID:10001755-1759593600-1759597200@www.museocanova.it
SUMMARY:Conferenza "Carlo Scarpa e i vetri"
DESCRIPTION:
URL:https://www.museocanova.it/calendario/visita-guidata-carlo-scarpa-e-i-vetri/
CATEGORIES:Appuntamenti
ATTACH;FMTTYPE=image/jpeg:https://www.museocanova.it/2022/wp-content/uploads/2025/09/548406630_1219183350247864_2340886102952119102_n.jpg
END:VEVENT
BEGIN:VEVENT
DTSTART;TZID=Europe/Rome:20251005T163000
DTEND;TZID=Europe/Rome:20251005T180000
DTSTAMP:20260421T080152
CREATED:20250630T090735Z
LAST-MODIFIED:20250930T115138Z
UID:10001802-1759681800-1759687200@www.museocanova.it
SUMMARY:Visita guidata al Museo e alla mostra Carlo Scarpa e le arti alla Biennale. Opere e vetri dalla Collezione Gemin
DESCRIPTION:
URL:https://www.museocanova.it/calendario/visita-museo-mostra-scarpa-5/2025-10-05/
CATEGORIES:Visite guidate
ATTACH;FMTTYPE=image/jpeg:https://www.museocanova.it/2022/wp-content/uploads/2025/05/thumb-mostra-Scarpa-Gemin-1.jpg
END:VEVENT
BEGIN:VEVENT
DTSTART;TZID=Europe/Rome:20251008T160000
DTEND;TZID=Europe/Rome:20251008T173000
DTSTAMP:20260421T080152
CREATED:20250806T150332Z
LAST-MODIFIED:20250807T070608Z
UID:10001739-1759939200-1759944600@www.museocanova.it
SUMMARY:Corso di fotografia | Il ritratto tra staticità e movimento
DESCRIPTION:
URL:https://www.museocanova.it/calendario/laboratori-fotografici-sguardi-in-movimento-2/2025-10-08/
CATEGORIES:Appuntamenti
ATTACH;FMTTYPE=image/jpeg:https://www.museocanova.it/2022/wp-content/uploads/2025/08/20250805_A0004.jpg
END:VEVENT
BEGIN:VEVENT
DTSTART;TZID=Europe/Rome:20251011T103000
DTEND;TZID=Europe/Rome:20251011T163000
DTSTAMP:20260421T080152
CREATED:20250122T102813Z
LAST-MODIFIED:20260317T145657Z
UID:10001795-1760178600-1760200200@www.museocanova.it
SUMMARY:Visite guidate spontanee / sabato
DESCRIPTION:
URL:https://www.museocanova.it/calendario/visite-guidate-spontanee-sabato-4/2025-10-11/
CATEGORIES:Visite guidate
ATTACH;FMTTYPE=image/jpeg:https://www.museocanova.it/2022/wp-content/uploads/2022/09/museo_canova_visite_guidate_spontanee_possagno-1.jpg
END:VEVENT
BEGIN:VEVENT
DTSTART;TZID=Europe/Rome:20251011T123000
DTEND;TZID=Europe/Rome:20251011T133000
DTSTAMP:20260421T080152
CREATED:20250723T081229Z
LAST-MODIFIED:20260317T150623Z
UID:10001812-1760185800-1760189400@www.museocanova.it
SUMMARY:Visite guidate in lingua inglese
DESCRIPTION:
URL:https://www.museocanova.it/calendario/visite-guidate-in-lingua-inglese-2/2025-10-11/
CATEGORIES:Visite guidate
ATTACH;FMTTYPE=image/jpeg:https://www.museocanova.it/2022/wp-content/uploads/2022/09/museo_canova_visite_guidate_spontanee_possagno_thumb.jpg
END:VEVENT
BEGIN:VEVENT
DTSTART;TZID=Europe/Rome:20251011T163000
DTEND;TZID=Europe/Rome:20251011T173000
DTSTAMP:20260421T080152
CREATED:20250122T142030Z
LAST-MODIFIED:20251222T103312Z
UID:10001394-1760200200-1760203800@www.museocanova.it
SUMMARY:Visite guidate con interprete LIS
DESCRIPTION:
URL:https://www.museocanova.it/calendario/visite-guidate-in-lis-2-3/2025-10-11/
CATEGORIES:Visite guidate
ATTACH;FMTTYPE=image/png:https://www.museocanova.it/2022/wp-content/uploads/2023/05/boxed_visite-LIS.png
END:VEVENT
BEGIN:VEVENT
DTSTART;TZID=Europe/Rome:20251011T163000
DTEND;TZID=Europe/Rome:20251011T173000
DTSTAMP:20260421T080152
CREATED:20250331T081447Z
LAST-MODIFIED:20260317T152059Z
UID:10001538-1760200200-1760203800@www.museocanova.it
SUMMARY:Visita guidata: uno scultore alla corte di Napoleone
DESCRIPTION:
URL:https://www.museocanova.it/calendario/corte-napoleone/2025-10-11/
CATEGORIES:Visite guidate
ATTACH;FMTTYPE=image/jpeg:https://www.museocanova.it/2022/wp-content/uploads/2025/03/thumb-napoleone-1.jpg
END:VEVENT
BEGIN:VEVENT
DTSTART;TZID=Europe/Rome:20251012T150000
DTEND;TZID=Europe/Rome:20251012T170000
DTSTAMP:20260421T080152
CREATED:20230922T081739Z
LAST-MODIFIED:20250930T111913Z
UID:10000746-1760281200-1760288400@www.museocanova.it
SUMMARY:F@Mu 2025
DESCRIPTION:
URL:https://www.museocanova.it/calendario/famu-2025/
CATEGORIES:Appuntamenti,Visite guidate
ATTACH;FMTTYPE=image/jpeg:https://www.museocanova.it/2022/wp-content/uploads/2022/05/Gypsotheca_Possagno_Canova_Visite_Museo_Famiglie_Bambini.jpg
END:VEVENT
BEGIN:VEVENT
DTSTART;TZID=Europe/Rome:20251012T163000
DTEND;TZID=Europe/Rome:20251012T180000
DTSTAMP:20260421T080152
CREATED:20250630T090735Z
LAST-MODIFIED:20250930T115138Z
UID:10001803-1760286600-1760292000@www.museocanova.it
SUMMARY:Visita guidata al Museo e alla mostra Carlo Scarpa e le arti alla Biennale. Opere e vetri dalla Collezione Gemin
DESCRIPTION:
URL:https://www.museocanova.it/calendario/visita-museo-mostra-scarpa-5/2025-10-12/
CATEGORIES:Visite guidate
ATTACH;FMTTYPE=image/jpeg:https://www.museocanova.it/2022/wp-content/uploads/2025/05/thumb-mostra-Scarpa-Gemin-1.jpg
END:VEVENT
BEGIN:VEVENT
DTSTART;TZID=Europe/Rome:20251015T160000
DTEND;TZID=Europe/Rome:20251015T173000
DTSTAMP:20260421T080152
CREATED:20250806T150332Z
LAST-MODIFIED:20250807T070608Z
UID:10001740-1760544000-1760549400@www.museocanova.it
SUMMARY:Corso di fotografia | Il ritratto tra staticità e movimento
DESCRIPTION:
URL:https://www.museocanova.it/calendario/laboratori-fotografici-sguardi-in-movimento-2/2025-10-15/
CATEGORIES:Appuntamenti
ATTACH;FMTTYPE=image/jpeg:https://www.museocanova.it/2022/wp-content/uploads/2025/08/20250805_A0004.jpg
END:VEVENT
BEGIN:VEVENT
DTSTART;TZID=Europe/Rome:20251018T103000
DTEND;TZID=Europe/Rome:20251018T163000
DTSTAMP:20260421T080152
CREATED:20250122T102813Z
LAST-MODIFIED:20260317T145657Z
UID:10001796-1760783400-1760805000@www.museocanova.it
SUMMARY:Visite guidate spontanee / sabato
DESCRIPTION:
URL:https://www.museocanova.it/calendario/visite-guidate-spontanee-sabato-4/2025-10-18/
CATEGORIES:Visite guidate
ATTACH;FMTTYPE=image/jpeg:https://www.museocanova.it/2022/wp-content/uploads/2022/09/museo_canova_visite_guidate_spontanee_possagno-1.jpg
END:VEVENT
BEGIN:VEVENT
DTSTART;TZID=Europe/Rome:20251018T123000
DTEND;TZID=Europe/Rome:20251018T133000
DTSTAMP:20260421T080152
CREATED:20250723T081229Z
LAST-MODIFIED:20260317T150623Z
UID:10001813-1760790600-1760794200@www.museocanova.it
SUMMARY:Visite guidate in lingua inglese
DESCRIPTION:
URL:https://www.museocanova.it/calendario/visite-guidate-in-lingua-inglese-2/2025-10-18/
CATEGORIES:Visite guidate
ATTACH;FMTTYPE=image/jpeg:https://www.museocanova.it/2022/wp-content/uploads/2022/09/museo_canova_visite_guidate_spontanee_possagno_thumb.jpg
END:VEVENT
BEGIN:VEVENT
DTSTART;TZID=Europe/Rome:20251018T160000
DTEND;TZID=Europe/Rome:20251018T170000
DTSTAMP:20260421T080152
CREATED:20250801T130940Z
LAST-MODIFIED:20250801T131058Z
UID:10001729-1760803200-1760806800@www.museocanova.it
SUMMARY:Laboratori fotografici: sguardi in movimento
DESCRIPTION:
URL:https://www.museocanova.it/calendario/lab-foto/2025-10-18/
CATEGORIES:Appuntamenti
ATTACH;FMTTYPE=image/jpeg:https://www.museocanova.it/2022/wp-content/uploads/2025/01/thumb-Amendola.jpg
END:VEVENT
BEGIN:VEVENT
DTSTART;TZID=Europe/Rome:20251018T163000
DTEND;TZID=Europe/Rome:20251018T173000
DTSTAMP:20260421T080152
CREATED:20250331T082707Z
LAST-MODIFIED:20260317T150955Z
UID:10001559-1760805000-1760808600@www.museocanova.it
SUMMARY:Visita guidata: Canova neoclassico
DESCRIPTION:
URL:https://www.museocanova.it/calendario/visita-guidata-canova-neoclassico/2025-10-18/
LOCATION:Museo Gypsotheca Antonio Canova
CATEGORIES:Visite guidate
ATTACH;FMTTYPE=image/jpeg:https://www.museocanova.it/2022/wp-content/uploads/2023/09/Ala-Lazzari_2.jpg
END:VEVENT
BEGIN:VEVENT
DTSTART;TZID=Europe/Rome:20251019T163000
DTEND;TZID=Europe/Rome:20251019T180000
DTSTAMP:20260421T080152
CREATED:20250630T090735Z
LAST-MODIFIED:20250930T115138Z
UID:10001804-1760891400-1760896800@www.museocanova.it
SUMMARY:Visita guidata al Museo e alla mostra Carlo Scarpa e le arti alla Biennale. Opere e vetri dalla Collezione Gemin
DESCRIPTION:
URL:https://www.museocanova.it/calendario/visita-museo-mostra-scarpa-5/2025-10-19/
CATEGORIES:Visite guidate
ATTACH;FMTTYPE=image/jpeg:https://www.museocanova.it/2022/wp-content/uploads/2025/05/thumb-mostra-Scarpa-Gemin-1.jpg
END:VEVENT
BEGIN:VEVENT
DTSTART;TZID=Europe/Rome:20251022T160000
DTEND;TZID=Europe/Rome:20251022T173000
DTSTAMP:20260421T080152
CREATED:20250806T150332Z
LAST-MODIFIED:20250807T070608Z
UID:10001741-1761148800-1761154200@www.museocanova.it
SUMMARY:Corso di fotografia | Il ritratto tra staticità e movimento
DESCRIPTION:
URL:https://www.museocanova.it/calendario/laboratori-fotografici-sguardi-in-movimento-2/2025-10-22/
CATEGORIES:Appuntamenti
ATTACH;FMTTYPE=image/jpeg:https://www.museocanova.it/2022/wp-content/uploads/2025/08/20250805_A0004.jpg
END:VEVENT
BEGIN:VEVENT
DTSTART;TZID=Europe/Rome:20251025T103000
DTEND;TZID=Europe/Rome:20251025T163000
DTSTAMP:20260421T080152
CREATED:20250122T102813Z
LAST-MODIFIED:20260317T145657Z
UID:10001797-1761388200-1761409800@www.museocanova.it
SUMMARY:Visite guidate spontanee / sabato
DESCRIPTION:
URL:https://www.museocanova.it/calendario/visite-guidate-spontanee-sabato-4/2025-10-25/
CATEGORIES:Visite guidate
ATTACH;FMTTYPE=image/jpeg:https://www.museocanova.it/2022/wp-content/uploads/2022/09/museo_canova_visite_guidate_spontanee_possagno-1.jpg
END:VEVENT
BEGIN:VEVENT
DTSTART;TZID=Europe/Rome:20251025T103000
DTEND;TZID=Europe/Rome:20251025T173000
DTSTAMP:20260421T080152
CREATED:20250331T083706Z
LAST-MODIFIED:20260317T151828Z
UID:10001569-1761388200-1761413400@www.museocanova.it
SUMMARY:Visita guidata: Canova\, che mito!
DESCRIPTION:
URL:https://www.museocanova.it/calendario/visita-guidata-canova-che-mito/2025-10-25/
LOCATION:Museo Gypsotheca Antonio Canova
CATEGORIES:Visite guidate
ATTACH;FMTTYPE=image/jpeg:https://www.museocanova.it/2022/wp-content/uploads/2023/03/preview-8-marzo.jpg
END:VEVENT
BEGIN:VEVENT
DTSTART;TZID=Europe/Rome:20251025T123000
DTEND;TZID=Europe/Rome:20251025T133000
DTSTAMP:20260421T080152
CREATED:20250723T081229Z
LAST-MODIFIED:20260317T150623Z
UID:10001814-1761395400-1761399000@www.museocanova.it
SUMMARY:Visite guidate in lingua inglese
DESCRIPTION:
URL:https://www.museocanova.it/calendario/visite-guidate-in-lingua-inglese-2/2025-10-25/
CATEGORIES:Visite guidate
ATTACH;FMTTYPE=image/jpeg:https://www.museocanova.it/2022/wp-content/uploads/2022/09/museo_canova_visite_guidate_spontanee_possagno_thumb.jpg
END:VEVENT
BEGIN:VEVENT
DTSTART;TZID=Europe/Rome:20251026T163000
DTEND;TZID=Europe/Rome:20251026T180000
DTSTAMP:20260421T080152
CREATED:20250630T090735Z
LAST-MODIFIED:20250930T115138Z
UID:10001805-1761496200-1761501600@www.museocanova.it
SUMMARY:Visita guidata al Museo e alla mostra Carlo Scarpa e le arti alla Biennale. Opere e vetri dalla Collezione Gemin
DESCRIPTION:
URL:https://www.museocanova.it/calendario/visita-museo-mostra-scarpa-5/2025-10-26/
CATEGORIES:Visite guidate
ATTACH;FMTTYPE=image/jpeg:https://www.museocanova.it/2022/wp-content/uploads/2025/05/thumb-mostra-Scarpa-Gemin-1.jpg
END:VEVENT
BEGIN:VEVENT
DTSTART;TZID=Europe/Rome:20251101T123000
DTEND;TZID=Europe/Rome:20251101T133000
DTSTAMP:20260421T080152
CREATED:20250723T081229Z
LAST-MODIFIED:20260317T150623Z
UID:10001815-1762000200-1762003800@www.museocanova.it
SUMMARY:Visite guidate in lingua inglese
DESCRIPTION:
URL:https://www.museocanova.it/calendario/visite-guidate-in-lingua-inglese-2/2025-11-01/
CATEGORIES:Visite guidate
ATTACH;FMTTYPE=image/jpeg:https://www.museocanova.it/2022/wp-content/uploads/2022/09/museo_canova_visite_guidate_spontanee_possagno_thumb.jpg
END:VEVENT
BEGIN:VEVENT
DTSTART;TZID=Europe/Rome:20251101T163000
DTEND;TZID=Europe/Rome:20251101T173000
DTSTAMP:20260421T080152
CREATED:20251009T114244Z
LAST-MODIFIED:20251009T114447Z
UID:10001820-1762014600-1762018200@www.museocanova.it
SUMMARY:Visita tematica: L’antico nel Settecento veneto\, dall’abate Farsetti a Canova
DESCRIPTION:
URL:https://www.museocanova.it/calendario/visita-farsetti/
CATEGORIES:Visite guidate
ATTACH;FMTTYPE=image/jpeg:https://www.museocanova.it/2022/wp-content/uploads/2022/11/Canova_lawrence-web.jpg
END:VEVENT
BEGIN:VEVENT
DTSTART;TZID=Europe/Rome:20251102T163000
DTEND;TZID=Europe/Rome:20251102T180000
DTSTAMP:20260421T080152
CREATED:20250630T090735Z
LAST-MODIFIED:20250930T115138Z
UID:10001806-1762101000-1762106400@www.museocanova.it
SUMMARY:Visita guidata al Museo e alla mostra Carlo Scarpa e le arti alla Biennale. Opere e vetri dalla Collezione Gemin
DESCRIPTION:
URL:https://www.museocanova.it/calendario/visita-museo-mostra-scarpa-5/2025-11-02/
CATEGORIES:Visite guidate
ATTACH;FMTTYPE=image/jpeg:https://www.museocanova.it/2022/wp-content/uploads/2025/05/thumb-mostra-Scarpa-Gemin-1.jpg
END:VEVENT
BEGIN:VEVENT
DTSTART;TZID=Europe/Rome:20251108T103000
DTEND;TZID=Europe/Rome:20251108T163000
DTSTAMP:20260421T080152
CREATED:20250122T102813Z
LAST-MODIFIED:20260317T145657Z
UID:10001798-1762597800-1762619400@www.museocanova.it
SUMMARY:Visite guidate spontanee / sabato
DESCRIPTION:
URL:https://www.museocanova.it/calendario/visite-guidate-spontanee-sabato-4/2025-11-08/
CATEGORIES:Visite guidate
ATTACH;FMTTYPE=image/jpeg:https://www.museocanova.it/2022/wp-content/uploads/2022/09/museo_canova_visite_guidate_spontanee_possagno-1.jpg
END:VEVENT
BEGIN:VEVENT
DTSTART;TZID=Europe/Rome:20251108T123000
DTEND;TZID=Europe/Rome:20251108T133000
DTSTAMP:20260421T080152
CREATED:20250723T081229Z
LAST-MODIFIED:20260317T150623Z
UID:10001816-1762605000-1762608600@www.museocanova.it
SUMMARY:Visite guidate in lingua inglese
DESCRIPTION:
URL:https://www.museocanova.it/calendario/visite-guidate-in-lingua-inglese-2/2025-11-08/
CATEGORIES:Visite guidate
ATTACH;FMTTYPE=image/jpeg:https://www.museocanova.it/2022/wp-content/uploads/2022/09/museo_canova_visite_guidate_spontanee_possagno_thumb.jpg
END:VEVENT
BEGIN:VEVENT
DTSTART;TZID=Europe/Rome:20251108T160000
DTEND;TZID=Europe/Rome:20251108T170000
DTSTAMP:20260421T080152
CREATED:20251028T175657Z
LAST-MODIFIED:20251030T095540Z
UID:10001821-1762617600-1762621200@www.museocanova.it
SUMMARY:Tra passione e visione - il racconto della collezione Gemin
DESCRIPTION:
URL:https://www.museocanova.it/calendario/conferenza-gemin/
CATEGORIES:Appuntamenti
ATTACH;FMTTYPE=image/jpeg:https://www.museocanova.it/2022/wp-content/uploads/2025/05/thumb-mostra-Scarpa-Gemin-1.jpg
END:VEVENT
BEGIN:VEVENT
DTSTART;TZID=Europe/Rome:20251108T163000
DTEND;TZID=Europe/Rome:20251108T173000
DTSTAMP:20260421T080152
CREATED:20250331T081447Z
LAST-MODIFIED:20260317T152059Z
UID:10001539-1762619400-1762623000@www.museocanova.it
SUMMARY:Visita guidata: uno scultore alla corte di Napoleone
DESCRIPTION:
URL:https://www.museocanova.it/calendario/corte-napoleone/2025-11-08/
CATEGORIES:Visite guidate
ATTACH;FMTTYPE=image/jpeg:https://www.museocanova.it/2022/wp-content/uploads/2025/03/thumb-napoleone-1.jpg
END:VEVENT
END:VCALENDAR