BEGIN:VCALENDAR
VERSION:2.0
PRODID:-//Museo Gypsotheca Antonio Canova - ECPv6.6.4.2//NONSGML v1.0//EN
CALSCALE:GREGORIAN
METHOD:PUBLISH
X-ORIGINAL-URL:https://www.museocanova.it
X-WR-CALDESC:Events for Museo Gypsotheca Antonio Canova
REFRESH-INTERVAL;VALUE=DURATION:PT1H
X-Robots-Tag:noindex
X-PUBLISHED-TTL:PT1H
BEGIN:VTIMEZONE
TZID:Europe/Rome
BEGIN:DAYLIGHT
TZOFFSETFROM:+0100
TZOFFSETTO:+0200
TZNAME:CEST
DTSTART:20250330T010000
END:DAYLIGHT
BEGIN:STANDARD
TZOFFSETFROM:+0200
TZOFFSETTO:+0100
TZNAME:CET
DTSTART:20251026T010000
END:STANDARD
END:VTIMEZONE
BEGIN:VEVENT
DTSTART;TZID=Europe/Rome:20250323T000000
DTEND;TZID=Europe/Rome:20250621T000000
DTSTAMP:20260421T010145
CREATED:20250312T150036Z
LAST-MODIFIED:20250331T110040Z
UID:10001498-1742688000-1750464000@www.museocanova.it
SUMMARY:Canova e la nascita della scultura moderna
DESCRIPTION:
URL:https://www.museocanova.it/calendario/canova-nascita-scultura-moderna/
CATEGORIES:Mostre
ATTACH;FMTTYPE=image/jpeg:https://www.museocanova.it/2022/wp-content/uploads/2025/03/header-Teseo.jpg
END:VEVENT
BEGIN:VEVENT
DTSTART;TZID=Europe/Rome:20250517T160000
DTEND;TZID=Europe/Rome:20250517T170000
DTSTAMP:20260421T010145
CREATED:20220914T143557Z
LAST-MODIFIED:20260316T144238Z
UID:10001489-1747497600-1747501200@www.museocanova.it
SUMMARY:Laboratori creativi
DESCRIPTION:
URL:https://www.museocanova.it/calendario/laboratori-creativi/2025-05-17/
CATEGORIES:Appuntamenti
ATTACH;FMTTYPE=image/jpeg:https://www.museocanova.it/2022/wp-content/uploads/2022/09/Museo_Gypsotheca_Canova_Laboratori_per_bambini_thumb.jpg
END:VEVENT
BEGIN:VEVENT
DTSTART;TZID=Europe/Rome:20250517T193000
DTEND;TZID=Europe/Rome:20250517T230000
DTSTAMP:20260421T010145
CREATED:20240507T163344Z
LAST-MODIFIED:20250507T111013Z
UID:10001157-1747510200-1747522800@www.museocanova.it
SUMMARY:Notte dei Musei. Note di Jazz
DESCRIPTION:
URL:https://www.museocanova.it/calendario/notte-dei-musei/
CATEGORIES:Appuntamenti,Visite guidate
ATTACH;FMTTYPE=image/png:https://www.museocanova.it/2022/wp-content/uploads/2023/04/boxed_Notte-dei-Musei.png
END:VEVENT
END:VCALENDAR