BEGIN:VCALENDAR
VERSION:2.0
PRODID:-//Museo Gypsotheca Antonio Canova - ECPv6.6.4.2//NONSGML v1.0//EN
CALSCALE:GREGORIAN
METHOD:PUBLISH
X-ORIGINAL-URL:https://www.museocanova.it
X-WR-CALDESC:Events for Museo Gypsotheca Antonio Canova
REFRESH-INTERVAL;VALUE=DURATION:PT1H
X-Robots-Tag:noindex
X-PUBLISHED-TTL:PT1H
BEGIN:VTIMEZONE
TZID:Europe/Rome
BEGIN:DAYLIGHT
TZOFFSETFROM:+0100
TZOFFSETTO:+0200
TZNAME:CEST
DTSTART:20250330T010000
END:DAYLIGHT
BEGIN:STANDARD
TZOFFSETFROM:+0200
TZOFFSETTO:+0100
TZNAME:CET
DTSTART:20251026T010000
END:STANDARD
END:VTIMEZONE
BEGIN:VEVENT
DTSTART;TZID=Europe/Rome:20250208T163000
DTEND;TZID=Europe/Rome:20250208T173000
DTSTAMP:20260420T110240
CREATED:20230509T085054Z
LAST-MODIFIED:20250122T141926Z
UID:10001433-1739032200-1739035800@www.museocanova.it
SUMMARY:Visite guidate con interprete LIS
DESCRIPTION:
URL:https://www.museocanova.it/calendario/visite-guidate-in-lis-2/
CATEGORIES:Visite guidate
ATTACH;FMTTYPE=image/png:https://www.museocanova.it/2022/wp-content/uploads/2023/05/boxed_visite-LIS.png
END:VEVENT
END:VCALENDAR