BEGIN:VCALENDAR
VERSION:2.0
PRODID:-//Museo Gypsotheca Antonio Canova - ECPv6.6.4.2//NONSGML v1.0//EN
CALSCALE:GREGORIAN
METHOD:PUBLISH
X-ORIGINAL-URL:https://www.museocanova.it
X-WR-CALDESC:Events for Museo Gypsotheca Antonio Canova
REFRESH-INTERVAL;VALUE=DURATION:PT1H
X-Robots-Tag:noindex
X-PUBLISHED-TTL:PT1H
BEGIN:VTIMEZONE
TZID:Europe/Rome
BEGIN:DAYLIGHT
TZOFFSETFROM:+0100
TZOFFSETTO:+0200
TZNAME:CEST
DTSTART:20240331T010000
END:DAYLIGHT
BEGIN:STANDARD
TZOFFSETFROM:+0200
TZOFFSETTO:+0100
TZNAME:CET
DTSTART:20241027T010000
END:STANDARD
BEGIN:DAYLIGHT
TZOFFSETFROM:+0100
TZOFFSETTO:+0200
TZNAME:CEST
DTSTART:20250330T010000
END:DAYLIGHT
BEGIN:STANDARD
TZOFFSETFROM:+0200
TZOFFSETTO:+0100
TZNAME:CET
DTSTART:20251026T010000
END:STANDARD
END:VTIMEZONE
BEGIN:VEVENT
DTSTART;TZID=Europe/Rome:20240420T000000
DTEND;TZID=Europe/Rome:20250107T000000
DTSTAMP:20260420T124357
CREATED:20240418T193137Z
LAST-MODIFIED:20250624T081709Z
UID:10000407-1713571200-1736208000@www.museocanova.it
SUMMARY:Canova. Quattro Tempi
DESCRIPTION:
URL:https://www.museocanova.it/calendario/canova-quattro-tempi/
CATEGORIES:Mostre
ATTACH;FMTTYPE=image/jpeg:https://www.museocanova.it/2022/wp-content/uploads/2024/04/spina-preview.jpg
END:VEVENT
BEGIN:VEVENT
DTSTART;TZID=Europe/Rome:20240608T093000
DTEND;TZID=Europe/Rome:20240608T103000
DTSTAMP:20260420T124357
CREATED:20240529T083519Z
LAST-MODIFIED:20240529T083741Z
UID:10001158-1717839000-1717842600@www.museocanova.it
SUMMARY:Il costume maschile all’epoca di Antonio Canova
DESCRIPTION:
URL:https://www.museocanova.it/calendario/il-costume-maschile-allepoca-di-antonio-canova/
CATEGORIES:Appuntamenti
ATTACH;FMTTYPE=image/jpeg:https://www.museocanova.it/2022/wp-content/uploads/2024/05/445165258_856150606551142_2916513223782325016_n-1.jpg
END:VEVENT
BEGIN:VEVENT
DTSTART;TZID=Europe/Rome:20240608T103000
DTEND;TZID=Europe/Rome:20240608T110000
DTSTAMP:20260420T124357
CREATED:20240529T084902Z
LAST-MODIFIED:20240601T090028Z
UID:10001163-1717842600-1717844400@www.museocanova.it
SUMMARY:Il restauro degli abiti di Antonio Canova
DESCRIPTION:
URL:https://www.museocanova.it/calendario/il-restauro-degli-abiti/
CATEGORIES:Appuntamenti
ATTACH;FMTTYPE=image/jpeg:https://www.museocanova.it/2022/wp-content/uploads/2024/05/441938337_856151213217748_4273272971417765829_n.jpg
END:VEVENT
END:VCALENDAR